BEGIN:VCALENDAR
VERSION:2.0
PRODID:-//Padme Hum Yoga - ECPv6.15.20//NONSGML v1.0//EN
CALSCALE:GREGORIAN
METHOD:PUBLISH
X-WR-CALNAME:Padme Hum Yoga
X-ORIGINAL-URL:https://padmehum.ca
X-WR-CALDESC:Events for Padme Hum Yoga
REFRESH-INTERVAL;VALUE=DURATION:PT1H
X-Robots-Tag:noindex
X-PUBLISHED-TTL:PT1H
BEGIN:VTIMEZONE
TZID:America/Edmonton
BEGIN:DAYLIGHT
TZOFFSETFROM:-0700
TZOFFSETTO:-0600
TZNAME:MDT
DTSTART:20170312T090000
END:DAYLIGHT
BEGIN:STANDARD
TZOFFSETFROM:-0600
TZOFFSETTO:-0700
TZNAME:MST
DTSTART:20171105T080000
END:STANDARD
BEGIN:DAYLIGHT
TZOFFSETFROM:-0700
TZOFFSETTO:-0600
TZNAME:MDT
DTSTART:20180311T090000
END:DAYLIGHT
BEGIN:STANDARD
TZOFFSETFROM:-0600
TZOFFSETTO:-0700
TZNAME:MST
DTSTART:20181104T080000
END:STANDARD
BEGIN:DAYLIGHT
TZOFFSETFROM:-0700
TZOFFSETTO:-0600
TZNAME:MDT
DTSTART:20190310T090000
END:DAYLIGHT
BEGIN:STANDARD
TZOFFSETFROM:-0600
TZOFFSETTO:-0700
TZNAME:MST
DTSTART:20191103T080000
END:STANDARD
BEGIN:DAYLIGHT
TZOFFSETFROM:-0700
TZOFFSETTO:-0600
TZNAME:MDT
DTSTART:20200308T090000
END:DAYLIGHT
BEGIN:STANDARD
TZOFFSETFROM:-0600
TZOFFSETTO:-0700
TZNAME:MST
DTSTART:20201101T080000
END:STANDARD
END:VTIMEZONE
BEGIN:VEVENT
DTSTART;TZID=America/Edmonton:20190504T180000
DTEND;TZID=America/Edmonton:20190504T210000
DTSTAMP:20260423T042342
CREATED:20190421T175723Z
LAST-MODIFIED:20190421T175723Z
UID:1031-1556992800-1557003600@padmehum.ca
SUMMARY:Yoga Bridal Shower
DESCRIPTION:
URL:https://padmehum.ca/event/yoga-bridal-shower/
CATEGORIES:Private Class
END:VEVENT
BEGIN:VEVENT
DTSTART;TZID=America/Edmonton:20181026T131500
DTEND;TZID=America/Edmonton:20181026T150000
DTSTAMP:20260423T042342
CREATED:20181006T221127Z
LAST-MODIFIED:20181006T221127Z
UID:459-1540559700-1540566000@padmehum.ca
SUMMARY:Private Class
DESCRIPTION:
URL:https://padmehum.ca/event/private-class/
LOCATION:Private Class
CATEGORIES:Private Class
END:VEVENT
END:VCALENDAR