BEGIN:VCALENDAR
VERSION:2.0
PRODID:-//Padme Hum Yoga - ECPv6.15.20//NONSGML v1.0//EN
CALSCALE:GREGORIAN
METHOD:PUBLISH
X-WR-CALNAME:Padme Hum Yoga
X-ORIGINAL-URL:https://padmehum.ca
X-WR-CALDESC:Events for Padme Hum Yoga
REFRESH-INTERVAL;VALUE=DURATION:PT1H
X-Robots-Tag:noindex
X-PUBLISHED-TTL:PT1H
BEGIN:VTIMEZONE
TZID:America/Edmonton
BEGIN:DAYLIGHT
TZOFFSETFROM:-0700
TZOFFSETTO:-0600
TZNAME:MDT
DTSTART:20200308T090000
END:DAYLIGHT
BEGIN:STANDARD
TZOFFSETFROM:-0600
TZOFFSETTO:-0700
TZNAME:MST
DTSTART:20201101T080000
END:STANDARD
BEGIN:DAYLIGHT
TZOFFSETFROM:-0700
TZOFFSETTO:-0600
TZNAME:MDT
DTSTART:20210314T090000
END:DAYLIGHT
BEGIN:STANDARD
TZOFFSETFROM:-0600
TZOFFSETTO:-0700
TZNAME:MST
DTSTART:20211107T080000
END:STANDARD
BEGIN:DAYLIGHT
TZOFFSETFROM:-0700
TZOFFSETTO:-0600
TZNAME:MDT
DTSTART:20220313T090000
END:DAYLIGHT
BEGIN:STANDARD
TZOFFSETFROM:-0600
TZOFFSETTO:-0700
TZNAME:MST
DTSTART:20221106T080000
END:STANDARD
BEGIN:DAYLIGHT
TZOFFSETFROM:-0700
TZOFFSETTO:-0600
TZNAME:MDT
DTSTART:20230312T090000
END:DAYLIGHT
BEGIN:STANDARD
TZOFFSETFROM:-0600
TZOFFSETTO:-0700
TZNAME:MST
DTSTART:20231105T080000
END:STANDARD
END:VTIMEZONE
BEGIN:VEVENT
DTSTART;TZID=America/Edmonton:20220517T183000
DTEND;TZID=America/Edmonton:20220517T193000
DTSTAMP:20260423T151121
CREATED:20220426T203943Z
LAST-MODIFIED:20220428T151904Z
UID:2744-1652812200-1652815800@padmehum.ca
SUMMARY:Yin with Guided Meditation - Online
DESCRIPTION:We take you through a Yin practice\, releasing deep routed tension and stress from the muscles and tissue\, followed by a full body scan with Guided Meditation\, closing with our Shivasana.
URL:https://padmehum.ca/event/yin-with-guided-meditation-online-46/
LOCATION:Zoom
CATEGORIES:Yin with Guided Meditation
END:VEVENT
BEGIN:VEVENT
DTSTART;TZID=America/Edmonton:20220515T183000
DTEND;TZID=America/Edmonton:20220515T193000
DTSTAMP:20260423T151121
CREATED:20220426T205601Z
LAST-MODIFIED:20220428T154127Z
UID:2750-1652639400-1652643000@padmehum.ca
SUMMARY:Yin with Guided Meditation - In Studio *CLASS FULL*
DESCRIPTION:Sorry\, class is full. \nThanks for your interest\, and please stay tuned for future in-studio classes. \n  \nWe take you through a Yin practice\, releasing deep routed tension and stress from the muscles and tissue\, followed by a full body scan with Guided Meditation\, closing with our Shivasana.
URL:https://padmehum.ca/event/yin-with-guided-meditation-in-studio-3/
LOCATION:Vita Sana Naturopathic Wellness Clinic\, Unit 110 - 5 Spruce Village Way\, Spruce Grove\, Alberta\, T7X 0J6\, Canada
CATEGORIES:Yin with Guided Meditation
END:VEVENT
BEGIN:VEVENT
DTSTART;TZID=America/Edmonton:20220510T183000
DTEND;TZID=America/Edmonton:20220510T193000
DTSTAMP:20260423T151121
CREATED:20220426T203855Z
LAST-MODIFIED:20220428T152109Z
UID:2742-1652207400-1652211000@padmehum.ca
SUMMARY:Yin with Guided Meditation - Online
DESCRIPTION:We take you through a Yin practice\, releasing deep routed tension and stress from the muscles and tissue\, followed by a full body scan with Guided Meditation\, closing with our Shivasana.
URL:https://padmehum.ca/event/yin-with-guided-meditation-online-45/
LOCATION:Zoom
CATEGORIES:Yin with Guided Meditation
END:VEVENT
BEGIN:VEVENT
DTSTART;TZID=America/Edmonton:20220426T183000
DTEND;TZID=America/Edmonton:20220426T193000
DTSTAMP:20260423T151121
CREATED:20220330T174750Z
LAST-MODIFIED:20220404T025737Z
UID:2720-1650997800-1651001400@padmehum.ca
SUMMARY:Yin with Guided Meditation Online
DESCRIPTION:We take you through a Yin practice\, releasing deep routed tension and stress from the muscles and tissue\, followed by a full body scan with Guided Meditation\, closing with our Shivasana.
URL:https://padmehum.ca/event/yin-with-guided-meditation-online-44/
LOCATION:Zoom
CATEGORIES:Yin with Guided Meditation
END:VEVENT
BEGIN:VEVENT
DTSTART;TZID=America/Edmonton:20220424T183000
DTEND;TZID=America/Edmonton:20220424T193000
DTSTAMP:20260423T151121
CREATED:20220330T175439Z
LAST-MODIFIED:20220421T141025Z
UID:2726-1650825000-1650828600@padmehum.ca
SUMMARY:Yin with Guided Meditation - In Studio *CLASS FULL*
DESCRIPTION:*SORRY\, CLASS IS FULL* \nWe take you through a Yin practice\, releasing deep routed tension and stress from the muscles and tissue\, followed by a full body scan with Guided Meditation\, closing with our Shivasana.
URL:https://padmehum.ca/event/yin-with-guided-meditation-in-studio-2/
LOCATION:Vita Sana Naturopathic Wellness Clinic\, Unit 110 - 5 Spruce Village Way\, Spruce Grove\, Alberta\, T7X 0J6\, Canada
CATEGORIES:Yin with Guided Meditation
END:VEVENT
BEGIN:VEVENT
DTSTART;TZID=America/Edmonton:20220423T100000
DTEND;TZID=America/Edmonton:20220423T110000
DTSTAMP:20260423T151121
CREATED:20220330T175311Z
LAST-MODIFIED:20220404T030016Z
UID:2724-1650708000-1650711600@padmehum.ca
SUMMARY:Gentle Hatha Flow Online
DESCRIPTION:A slow flowing class synchronizing breath with movement\, opening and stretching your muscles with slow movement\, careful alignment and mindful breath work.
URL:https://padmehum.ca/event/gentle-hatha-flow-online-22/
LOCATION:Zoom
CATEGORIES:Gentle Hatha Flow
END:VEVENT
BEGIN:VEVENT
DTSTART;TZID=America/Edmonton:20220409T100000
DTEND;TZID=America/Edmonton:20220409T110000
DTSTAMP:20260423T151121
CREATED:20220330T174843Z
LAST-MODIFIED:20220404T025921Z
UID:2722-1649498400-1649502000@padmehum.ca
SUMMARY:Gentle Hatha Flow Online
DESCRIPTION:A slow flowing class synchronizing breath with movement\, opening and stretching your muscles with slow movement\, careful alignment and mindful breath work.
URL:https://padmehum.ca/event/gentle-hatha-flow-online-21/
LOCATION:Zoom
CATEGORIES:Gentle Hatha Flow
END:VEVENT
BEGIN:VEVENT
DTSTART;TZID=America/Edmonton:20220405T183000
DTEND;TZID=America/Edmonton:20220405T193000
DTSTAMP:20260423T151121
CREATED:20220330T174609Z
LAST-MODIFIED:20220404T023934Z
UID:2718-1649183400-1649187000@padmehum.ca
SUMMARY:Yin with Guided Meditation Online
DESCRIPTION:We take you through a Yin practice\, releasing deep routed tension and stress from the muscles and tissue\, followed by a full body scan with Guided Meditation\, closing with our Shivasana.
URL:https://padmehum.ca/event/yin-with-guided-meditation-online-43/
LOCATION:Zoom
CATEGORIES:Yin with Guided Meditation
END:VEVENT
BEGIN:VEVENT
DTSTART;TZID=America/Edmonton:20220329T183000
DTEND;TZID=America/Edmonton:20220329T193000
DTSTAMP:20260423T151121
CREATED:20220223T194448Z
LAST-MODIFIED:20220308T013608Z
UID:2694-1648578600-1648582200@padmehum.ca
SUMMARY:Yin with Guided Meditation Online
DESCRIPTION:We take you through a Yin practice\, releasing deep routed tension and stress from the muscles and tissue\, followed by a full body scan with Guided Meditation\, closing with our Shivasana.
URL:https://padmehum.ca/event/yin-with-guided-meditation-online-42/
LOCATION:Zoom
CATEGORIES:Yin with Guided Meditation
END:VEVENT
BEGIN:VEVENT
DTSTART;TZID=America/Edmonton:20220327T183000
DTEND;TZID=America/Edmonton:20220327T193000
DTSTAMP:20260423T151121
CREATED:20220223T194551Z
LAST-MODIFIED:20220308T013810Z
UID:2696-1648405800-1648409400@padmehum.ca
SUMMARY:Yin with Guided Meditation IN STUDIO
DESCRIPTION:We take you through a Yin practice\, releasing deep routed tension and stress from the muscles and tissue\, followed by a full body scan with Guided Meditation\, closing with our Shivasana.
URL:https://padmehum.ca/event/yin-with-guided-meditation-in-studio/
LOCATION:Vita Sana Naturopathic Wellness Clinic\, Unit 110 - 5 Spruce Village Way\, Spruce Grove\, Alberta\, T7X 0J6\, Canada
CATEGORIES:Yin with Guided Meditation
END:VEVENT
BEGIN:VEVENT
DTSTART;TZID=America/Edmonton:20220326T100000
DTEND;TZID=America/Edmonton:20220326T110000
DTSTAMP:20260423T151121
CREATED:20220223T195015Z
LAST-MODIFIED:20220308T014107Z
UID:2702-1648288800-1648292400@padmehum.ca
SUMMARY:Gentle Hatha Flow Online
DESCRIPTION:A slow flowing class synchronizing breath with movement\, opening and stretching your muscles with slow movement\, careful alignment and mindful breath work.
URL:https://padmehum.ca/event/gentle-hatha-flow-online-20/
LOCATION:Zoom
CATEGORIES:Gentle Hatha Flow
END:VEVENT
BEGIN:VEVENT
DTSTART;TZID=America/Edmonton:20220322T183000
DTEND;TZID=America/Edmonton:20220322T190000
DTSTAMP:20260423T151121
CREATED:20220223T194402Z
LAST-MODIFIED:20220308T013506Z
UID:2692-1647973800-1647975600@padmehum.ca
SUMMARY:Yin with Guided Meditation Online
DESCRIPTION:We take you through a Yin practice\, releasing deep routed tension and stress from the muscles and tissue\, followed by a full body scan with Guided Meditation\, closing with our Shivasana.
URL:https://padmehum.ca/event/yin-with-guided-meditation-online-41/
LOCATION:Zoom
CATEGORIES:Yin with Guided Meditation
END:VEVENT
BEGIN:VEVENT
DTSTART;TZID=America/Edmonton:20220315T183000
DTEND;TZID=America/Edmonton:20220315T193000
DTSTAMP:20260423T151121
CREATED:20220223T194059Z
LAST-MODIFIED:20220308T013403Z
UID:2689-1647369000-1647372600@padmehum.ca
SUMMARY:Yin with Guided Meditation Online
DESCRIPTION:We take you through a Yin practice\, releasing deep routed tension and stress from the muscles and tissue\, followed by a full body scan with Guided Meditation\, closing with our Shivasana.
URL:https://padmehum.ca/event/yin-with-guided-meditation-online-40/
LOCATION:Zoom
CATEGORIES:Yin with Guided Meditation
END:VEVENT
BEGIN:VEVENT
DTSTART;TZID=America/Edmonton:20220312T100000
DTEND;TZID=America/Edmonton:20220312T110000
DTSTAMP:20260423T151121
CREATED:20220223T194636Z
LAST-MODIFIED:20220308T013943Z
UID:2698-1647079200-1647082800@padmehum.ca
SUMMARY:Gentle Hatha Flow Online
DESCRIPTION:A slow flowing class synchronizing breath with movement\, opening and stretching your muscles with slow movement\, careful alignment and mindful breath work.
URL:https://padmehum.ca/event/gentle-hatha-flow-online-19/
LOCATION:Zoom
CATEGORIES:Gentle Hatha Flow
END:VEVENT
BEGIN:VEVENT
DTSTART;TZID=America/Edmonton:20220308T183000
DTEND;TZID=America/Edmonton:20220308T193000
DTSTAMP:20260423T151121
CREATED:20220223T193917Z
LAST-MODIFIED:20220308T013247Z
UID:2687-1646764200-1646767800@padmehum.ca
SUMMARY:Yin with Guided Meditation Online
DESCRIPTION:We take you through a Yin practice\, releasing deep routed tension and stress from the muscles and tissue\, followed by a full body scan with Guided Meditation\, closing with our Shivasana.
URL:https://padmehum.ca/event/yin-with-guided-meditation-online-39/
LOCATION:Zoom
CATEGORIES:Yin with Guided Meditation
END:VEVENT
BEGIN:VEVENT
DTSTART;TZID=America/Edmonton:20220226T100000
DTEND;TZID=America/Edmonton:20220226T110000
DTSTAMP:20260423T151121
CREATED:20220125T222557Z
LAST-MODIFIED:20220201T013728Z
UID:2676-1645869600-1645873200@padmehum.ca
SUMMARY:Gentle Hatha Flow Online
DESCRIPTION:A slow flowing class synchronizing breath with movement\, opening and stretching your muscles with slow movement\, careful alignment and mindful breath work.
URL:https://padmehum.ca/event/gentle-hatha-flow-online-18/
LOCATION:Zoom
CATEGORIES:Gentle Hatha Flow
END:VEVENT
BEGIN:VEVENT
DTSTART;TZID=America/Edmonton:20220222T183000
DTEND;TZID=America/Edmonton:20220222T193000
DTSTAMP:20260423T151121
CREATED:20220125T222300Z
LAST-MODIFIED:20220126T231853Z
UID:2672-1645554600-1645558200@padmehum.ca
SUMMARY:Yin with Guided Meditation
DESCRIPTION:We take you through a Yin practice\, releasing deep routed tension and stress from the muscles and tissue\, followed by a full body scan with Guided Meditation\, closing with our Shivasana.
URL:https://padmehum.ca/event/yin-with-guided-meditation-90/
LOCATION:Zoom
CATEGORIES:Yin with Guided Meditation
END:VEVENT
BEGIN:VEVENT
DTSTART;TZID=America/Edmonton:20220215T183000
DTEND;TZID=America/Edmonton:20220215T193000
DTSTAMP:20260423T151121
CREATED:20220125T222153Z
LAST-MODIFIED:20220126T231734Z
UID:2670-1644949800-1644953400@padmehum.ca
SUMMARY:Yin with Guided Meditation Online
DESCRIPTION:We take you through a Yin practice\, releasing deep routed tension and stress from the muscles and tissue\, followed by a full body scan with Guided Meditation\, closing with our Shivasana.
URL:https://padmehum.ca/event/yin-with-guided-meditation-online-38/
LOCATION:Zoom
CATEGORIES:Yin with Guided Meditation
END:VEVENT
BEGIN:VEVENT
DTSTART;TZID=America/Edmonton:20220205T100000
DTEND;TZID=America/Edmonton:20220205T110000
DTSTAMP:20260423T151121
CREATED:20220125T222354Z
LAST-MODIFIED:20220201T013813Z
UID:2674-1644055200-1644058800@padmehum.ca
SUMMARY:Gentle Hatha Flow Online
DESCRIPTION:A slow flowing class synchronizing breath with movement\, opening and stretching your muscles with slow movement\, careful alignment and mindful breath work.
URL:https://padmehum.ca/event/gentle-hatha-flow-online-17/
LOCATION:Zoom
CATEGORIES:Gentle Hatha Flow
END:VEVENT
BEGIN:VEVENT
DTSTART;TZID=America/Edmonton:20220201T183000
DTEND;TZID=America/Edmonton:20220201T193000
DTSTAMP:20260423T151121
CREATED:20220125T220404Z
LAST-MODIFIED:20220126T231630Z
UID:2665-1643740200-1643743800@padmehum.ca
SUMMARY:Yin with Guided Meditation Online
DESCRIPTION:We take you through a Yin practice\, releasing deep routed tension and stress from the muscles and tissue\, followed by a full body scan with Guided Meditation\, closing with our Shivasana.
URL:https://padmehum.ca/event/yin-with-guided-meditation-online-37/
LOCATION:Zoom
CATEGORIES:Yin with Guided Meditation
END:VEVENT
BEGIN:VEVENT
DTSTART;TZID=America/Edmonton:20220125T183000
DTEND;TZID=America/Edmonton:20220125T193000
DTSTAMP:20260423T151121
CREATED:20211229T003457Z
LAST-MODIFIED:20220103T013834Z
UID:2652-1643135400-1643139000@padmehum.ca
SUMMARY:Yin with Guided Meditation - Online
DESCRIPTION:We take you through a Yin practice\, releasing deep routed tension and stress from the muscles and tissue\, followed by a full body scan with Guided Meditation\, closing with our Shivasana.
URL:https://padmehum.ca/event/yin-with-guided-meditation-online-36/
LOCATION:Zoom
CATEGORIES:Yin with Guided Meditation
END:VEVENT
BEGIN:VEVENT
DTSTART;TZID=America/Edmonton:20220122T100000
DTEND;TZID=America/Edmonton:20220122T110000
DTSTAMP:20260423T151121
CREATED:20220120T184729Z
LAST-MODIFIED:20220126T232327Z
UID:2663-1642845600-1642849200@padmehum.ca
SUMMARY:Gentle Hatha Flow Online
DESCRIPTION:A slow flowing class synchronizing breath with movement\, opening and stretching your muscles with slow movement\, careful alignment and mindful breath work.
URL:https://padmehum.ca/event/gentle-hatha-flow-online-16/
LOCATION:Zoom
CATEGORIES:Gentle Hatha Flow
END:VEVENT
BEGIN:VEVENT
DTSTART;TZID=America/Edmonton:20220118T183000
DTEND;TZID=America/Edmonton:20220118T193000
DTSTAMP:20260423T151121
CREATED:20211229T003343Z
LAST-MODIFIED:20220103T013729Z
UID:2650-1642530600-1642534200@padmehum.ca
SUMMARY:Yin with Guided Meditation - Online
DESCRIPTION:We take you through a Yin practice\, releasing deep routed tension and stress from the muscles and tissue\, followed by a full body scan with Guided Meditation\, closing with our Shivasana.
URL:https://padmehum.ca/event/yin-with-guided-meditation-online-35/
LOCATION:Zoom
CATEGORIES:Yin with Guided Meditation
END:VEVENT
BEGIN:VEVENT
DTSTART;TZID=America/Edmonton:20220115T100000
DTEND;TZID=America/Edmonton:20220115T110000
DTSTAMP:20260423T151121
CREATED:20220110T161454Z
LAST-MODIFIED:20220126T232409Z
UID:2661-1642240800-1642244400@padmehum.ca
SUMMARY:Gentle Hatha Flow Online
DESCRIPTION:A slow flowing class synchronizing breath with movement\, opening and stretching your muscles with slow movement\, careful alignment and mindful breath work.
URL:https://padmehum.ca/event/gentle-hatha-flow-online-15/
LOCATION:Zoom
CATEGORIES:Gentle Hatha Flow
END:VEVENT
BEGIN:VEVENT
DTSTART;TZID=America/Edmonton:20220111T183000
DTEND;TZID=America/Edmonton:20220111T193000
DTSTAMP:20260423T151121
CREATED:20211229T003257Z
LAST-MODIFIED:20220103T013618Z
UID:2648-1641925800-1641929400@padmehum.ca
SUMMARY:Yin with Guided Meditation - Online
DESCRIPTION:We take you through a Yin practice\, releasing deep routed tension and stress from the muscles and tissue\, followed by a full body scan with Guided Meditation\, closing with our Shivasana.
URL:https://padmehum.ca/event/yin-with-guided-meditation-online-34/
LOCATION:Zoom
CATEGORIES:Yin with Guided Meditation
END:VEVENT
BEGIN:VEVENT
DTSTART;TZID=America/Edmonton:20220104T183000
DTEND;TZID=America/Edmonton:20220104T193000
DTSTAMP:20260423T151121
CREATED:20211229T003117Z
LAST-MODIFIED:20220103T013516Z
UID:2646-1641321000-1641324600@padmehum.ca
SUMMARY:Yin with Guided Meditation - Online
DESCRIPTION:We take you through a Yin practice\, releasing deep routed tension and stress from the muscles and tissue\, followed by a full body scan with Guided Meditation\, closing with our Shivasana.
URL:https://padmehum.ca/event/yin-with-guided-meditation-online-33/
LOCATION:Zoom
CATEGORIES:Yin with Guided Meditation
END:VEVENT
BEGIN:VEVENT
DTSTART;TZID=America/Edmonton:20211130T183000
DTEND;TZID=America/Edmonton:20211130T193000
DTSTAMP:20260423T151121
CREATED:20211028T174512Z
LAST-MODIFIED:20211028T214932Z
UID:2637-1638297000-1638300600@padmehum.ca
SUMMARY:Yin with Guided Meditation - Online
DESCRIPTION:
URL:https://padmehum.ca/event/yin-with-guided-meditation-89/
LOCATION:Zoom
CATEGORIES:Yin with Guided Meditation
END:VEVENT
BEGIN:VEVENT
DTSTART;TZID=America/Edmonton:20211123T183000
DTEND;TZID=America/Edmonton:20211123T193000
DTSTAMP:20260423T151121
CREATED:20211028T174417Z
LAST-MODIFIED:20211028T215000Z
UID:2635-1637692200-1637695800@padmehum.ca
SUMMARY:Yin with Guided Meditation - Online
DESCRIPTION:
URL:https://padmehum.ca/event/yin-with-guided-meditation-88/
LOCATION:Zoom
CATEGORIES:Yin with Guided Meditation
END:VEVENT
BEGIN:VEVENT
DTSTART;TZID=America/Edmonton:20211116T183000
DTEND;TZID=America/Edmonton:20211116T193000
DTSTAMP:20260423T151121
CREATED:20211028T172616Z
LAST-MODIFIED:20211028T215228Z
UID:2633-1637087400-1637091000@padmehum.ca
SUMMARY:Yin with Guided Meditation - Online
DESCRIPTION:
URL:https://padmehum.ca/event/yin-with-guided-meditation-87/
LOCATION:Zoom
CATEGORIES:Yin with Guided Meditation
END:VEVENT
BEGIN:VEVENT
DTSTART;TZID=America/Edmonton:20211109T183000
DTEND;TZID=America/Edmonton:20211109T193000
DTSTAMP:20260423T151121
CREATED:20211028T172516Z
LAST-MODIFIED:20211028T215306Z
UID:2631-1636482600-1636486200@padmehum.ca
SUMMARY:Yin with Guided Meditation - Online
DESCRIPTION:
URL:https://padmehum.ca/event/yin-with-guided-meditation-86/
LOCATION:Zoom
CATEGORIES:Yin with Guided Meditation
END:VEVENT
END:VCALENDAR