BEGIN:VCALENDAR
VERSION:2.0
PRODID:-//Padme Hum Yoga - ECPv6.15.20//NONSGML v1.0//EN
CALSCALE:GREGORIAN
METHOD:PUBLISH
X-WR-CALNAME:Padme Hum Yoga
X-ORIGINAL-URL:https://padmehum.ca
X-WR-CALDESC:Events for Padme Hum Yoga
REFRESH-INTERVAL;VALUE=DURATION:PT1H
X-Robots-Tag:noindex
X-PUBLISHED-TTL:PT1H
BEGIN:VTIMEZONE
TZID:America/Edmonton
BEGIN:DAYLIGHT
TZOFFSETFROM:-0700
TZOFFSETTO:-0600
TZNAME:MDT
DTSTART:20190310T090000
END:DAYLIGHT
BEGIN:STANDARD
TZOFFSETFROM:-0600
TZOFFSETTO:-0700
TZNAME:MST
DTSTART:20191103T080000
END:STANDARD
BEGIN:DAYLIGHT
TZOFFSETFROM:-0700
TZOFFSETTO:-0600
TZNAME:MDT
DTSTART:20200308T090000
END:DAYLIGHT
BEGIN:STANDARD
TZOFFSETFROM:-0600
TZOFFSETTO:-0700
TZNAME:MST
DTSTART:20201101T080000
END:STANDARD
BEGIN:DAYLIGHT
TZOFFSETFROM:-0700
TZOFFSETTO:-0600
TZNAME:MDT
DTSTART:20210314T090000
END:DAYLIGHT
BEGIN:STANDARD
TZOFFSETFROM:-0600
TZOFFSETTO:-0700
TZNAME:MST
DTSTART:20211107T080000
END:STANDARD
END:VTIMEZONE
BEGIN:VEVENT
DTSTART;TZID=America/Edmonton:20201102T173000
DTEND;TZID=America/Edmonton:20201102T183000
DTSTAMP:20260424T170238
CREATED:20201030T163630Z
LAST-MODIFIED:20201030T163630Z
UID:2218-1604338200-1604341800@padmehum.ca
SUMMARY:Vinyasa with Yin - Hybrid
DESCRIPTION:
URL:https://padmehum.ca/event/vinyasa-with-yin-hybrid-7/
LOCATION:Vita Sana Naturopathic Wellness Clinic\, Unit 110 - 5 Spruce Village Way\, Spruce Grove\, Alberta\, T7X 0J6\, Canada
CATEGORIES:Vinyasa with Yin - Hybrid
END:VEVENT
BEGIN:VEVENT
DTSTART;TZID=America/Edmonton:20201028T170000
DTEND;TZID=America/Edmonton:20201028T180000
DTSTAMP:20260424T170238
CREATED:20201006T191619Z
LAST-MODIFIED:20201006T193739Z
UID:2168-1603904400-1603908000@padmehum.ca
SUMMARY:Gentle Hatha Yoga
DESCRIPTION: 
URL:https://padmehum.ca/event/gentle-hatha-yoga-8/
LOCATION:Tomahawk Library\, Canada
CATEGORIES:Gentle Hatha
END:VEVENT
BEGIN:VEVENT
DTSTART;TZID=America/Edmonton:20201028T130000
DTEND;TZID=America/Edmonton:20201028T140000
DTSTAMP:20260424T170238
CREATED:20200926T214839Z
LAST-MODIFIED:20201007T030007Z
UID:2143-1603890000-1603893600@padmehum.ca
SUMMARY:Gentle Hatha Yoga - Hybrid
DESCRIPTION: 
URL:https://padmehum.ca/event/gentle-hatha-yoga-hybrid/
LOCATION:Keephills Community Hall\, RR #1\, Duffield\, AB\, T0E 0N0\, Canada
CATEGORIES:Gentle Hatha
END:VEVENT
BEGIN:VEVENT
DTSTART;TZID=America/Edmonton:20201027T190000
DTEND;TZID=America/Edmonton:20201027T201500
DTSTAMP:20260424T170238
CREATED:20200926T214710Z
LAST-MODIFIED:20201007T031246Z
UID:2141-1603825200-1603829700@padmehum.ca
SUMMARY:Yin with Guided Meditation
DESCRIPTION:
URL:https://padmehum.ca/event/yin-with-guided-meditation-73/
LOCATION:Vita Sana Naturopathic Wellness Clinic\, Unit 110 - 5 Spruce Village Way\, Spruce Grove\, Alberta\, T7X 0J6\, Canada
CATEGORIES:Yin with Guided Meditation
END:VEVENT
BEGIN:VEVENT
DTSTART;TZID=America/Edmonton:20201026T190000
DTEND;TZID=America/Edmonton:20201026T201500
DTSTAMP:20260424T170238
CREATED:20200926T214542Z
LAST-MODIFIED:20201007T031224Z
UID:2139-1603738800-1603743300@padmehum.ca
SUMMARY:Yin with Guided Meditation - Hybrid
DESCRIPTION:
URL:https://padmehum.ca/event/yin-with-guided-meditation-hybrid-2/
LOCATION:Vita Sana Naturopathic Wellness Clinic\, Unit 110 - 5 Spruce Village Way\, Spruce Grove\, Alberta\, T7X 0J6\, Canada
CATEGORIES:Yin with Guided Meditation
END:VEVENT
BEGIN:VEVENT
DTSTART;TZID=America/Edmonton:20201026T173000
DTEND;TZID=America/Edmonton:20201026T183000
DTSTAMP:20260424T170238
CREATED:20200926T214343Z
LAST-MODIFIED:20201007T031201Z
UID:2137-1603733400-1603737000@padmehum.ca
SUMMARY:Vinyasa with Yin - Hybrid
DESCRIPTION: 
URL:https://padmehum.ca/event/vinyasa-with-yin-hybrid/
LOCATION:Vita Sana Naturopathic Wellness Clinic\, Unit 110 - 5 Spruce Village Way\, Spruce Grove\, Alberta\, T7X 0J6\, Canada
CATEGORIES:Vinyasa with Yin
END:VEVENT
BEGIN:VEVENT
DTSTART;TZID=America/Edmonton:20201021T170000
DTEND;TZID=America/Edmonton:20201021T180000
DTSTAMP:20260424T170238
CREATED:20201006T191540Z
LAST-MODIFIED:20201006T193647Z
UID:2166-1603299600-1603303200@padmehum.ca
SUMMARY:Gentle Hatha Yoga
DESCRIPTION:
URL:https://padmehum.ca/event/gentle-hatha-yoga-7/
LOCATION:Tomahawk Library\, Canada
CATEGORIES:Gentle Hatha
END:VEVENT
BEGIN:VEVENT
DTSTART;TZID=America/Edmonton:20201021T130000
DTEND;TZID=America/Edmonton:20201021T140000
DTSTAMP:20260424T170238
CREATED:20200926T214152Z
LAST-MODIFIED:20201007T025939Z
UID:2135-1603285200-1603288800@padmehum.ca
SUMMARY:Gentle Hatha Yoga - Hybrid
DESCRIPTION:
URL:https://padmehum.ca/event/gentle-hatha-yoga-4/
LOCATION:Keephills Community Hall\, RR #1\, Duffield\, AB\, T0E 0N0\, Canada
CATEGORIES:Gentle Hatha
END:VEVENT
BEGIN:VEVENT
DTSTART;TZID=America/Edmonton:20201020T190000
DTEND;TZID=America/Edmonton:20201020T201500
DTSTAMP:20260424T170238
CREATED:20200926T213803Z
LAST-MODIFIED:20201007T031105Z
UID:2133-1603220400-1603224900@padmehum.ca
SUMMARY:Yin with Guided Meditation
DESCRIPTION: 
URL:https://padmehum.ca/event/yin-with-guided-meditation-72/
LOCATION:Vita Sana Naturopathic Wellness Clinic\, Unit 110 - 5 Spruce Village Way\, Spruce Grove\, Alberta\, T7X 0J6\, Canada
CATEGORIES:Yin with Guided Meditation
END:VEVENT
BEGIN:VEVENT
DTSTART;TZID=America/Edmonton:20201019T190000
DTEND;TZID=America/Edmonton:20201019T201500
DTSTAMP:20260424T170238
CREATED:20200926T213534Z
LAST-MODIFIED:20201007T030934Z
UID:2131-1603134000-1603138500@padmehum.ca
SUMMARY:Yin with Guided Meditation - Hybrid
DESCRIPTION: 
URL:https://padmehum.ca/event/yin-with-guided-meditation-hybrid/
LOCATION:Vita Sana Naturopathic Wellness Clinic\, Unit 110 - 5 Spruce Village Way\, Spruce Grove\, Alberta\, T7X 0J6\, Canada
CATEGORIES:Yin with Guided Meditation
END:VEVENT
BEGIN:VEVENT
DTSTART;TZID=America/Edmonton:20201019T173000
DTEND;TZID=America/Edmonton:20201019T183000
DTSTAMP:20260424T170238
CREATED:20200926T213335Z
LAST-MODIFIED:20201007T031029Z
UID:2129-1603128600-1603132200@padmehum.ca
SUMMARY:Vinyasa with Yin - Hybrid
DESCRIPTION: 
URL:https://padmehum.ca/event/vinyasa-with-yin-14/
LOCATION:Vita Sana Naturopathic Wellness Clinic\, Unit 110 - 5 Spruce Village Way\, Spruce Grove\, Alberta\, T7X 0J6\, Canada
CATEGORIES:Vinyasa with Yin
END:VEVENT
BEGIN:VEVENT
DTSTART;TZID=America/Edmonton:20201014T170000
DTEND;TZID=America/Edmonton:20201014T180000
DTSTAMP:20260424T170238
CREATED:20201006T191447Z
LAST-MODIFIED:20201006T191447Z
UID:2164-1602694800-1602698400@padmehum.ca
SUMMARY:Gentle Hatha Yoga
DESCRIPTION: 
URL:https://padmehum.ca/event/gentle-hatha-yoga-6/
LOCATION:Tomahawk Library\, Canada
CATEGORIES:Gentle Hatha
END:VEVENT
BEGIN:VEVENT
DTSTART;TZID=America/Edmonton:20201014T130000
DTEND;TZID=America/Edmonton:20201014T140000
DTSTAMP:20260424T170238
CREATED:20200926T215150Z
LAST-MODIFIED:20201007T025846Z
UID:2145-1602680400-1602684000@padmehum.ca
SUMMARY:Gentle Hatha Yoga - Hybrid
DESCRIPTION:
URL:https://padmehum.ca/event/gentle-hatha-yoga-hybrid-2/
LOCATION:Keephills Community Hall\, RR #1\, Duffield\, AB\, T0E 0N0\, Canada
CATEGORIES:Gentle Hatha
END:VEVENT
BEGIN:VEVENT
DTSTART;TZID=America/Edmonton:20201007T170000
DTEND;TZID=America/Edmonton:20201007T180000
DTSTAMP:20260424T170238
CREATED:20201006T191342Z
LAST-MODIFIED:20201006T191342Z
UID:2161-1602090000-1602093600@padmehum.ca
SUMMARY:Gentle Hatha Yoga
DESCRIPTION: 
URL:https://padmehum.ca/event/gentle-hatha-yoga-5/
LOCATION:Tomahawk Library\, Canada
CATEGORIES:Gentle Hatha
END:VEVENT
BEGIN:VEVENT
DTSTART;TZID=America/Edmonton:20201007T130000
DTEND;TZID=America/Edmonton:20201007T140000
DTSTAMP:20260424T170238
CREATED:20200926T215354Z
LAST-MODIFIED:20201007T025708Z
UID:2148-1602075600-1602079200@padmehum.ca
SUMMARY:Gentle Hatha Yoga - Hybrid
DESCRIPTION:
URL:https://padmehum.ca/event/gentle-hatha-yoga-hybrid-3/
LOCATION:Keephills Community Hall\, RR #1\, Duffield\, AB\, T0E 0N0\, Canada
CATEGORIES:Gentle Hatha
END:VEVENT
BEGIN:VEVENT
DTSTART;TZID=America/Edmonton:20201002T173000
DTEND;TZID=America/Edmonton:20201002T183000
DTSTAMP:20260424T170238
CREATED:20201030T155522Z
LAST-MODIFIED:20201030T155522Z
UID:2177-1601659800-1601663400@padmehum.ca
SUMMARY:Vinyasa with Yin - Hybrid
DESCRIPTION: 
URL:https://padmehum.ca/event/vinyasa-with-yin-hybrid-2/
LOCATION:Vita Sana Naturopathic Wellness Clinic\, Unit 110 - 5 Spruce Village Way\, Spruce Grove\, Alberta\, T7X 0J6\, Canada
CATEGORIES:Vinyasa with Yin - Hybrid
END:VEVENT
BEGIN:VEVENT
DTSTART;TZID=America/Edmonton:20200929T190000
DTEND;TZID=America/Edmonton:20200929T201500
DTSTAMP:20260424T170238
CREATED:20200818T152809Z
LAST-MODIFIED:20200829T031129Z
UID:2078-1601406000-1601410500@padmehum.ca
SUMMARY:*FULL* Yin with Guided Meditation
DESCRIPTION:We take you through a Yin practice\, releasing deep routed tension and stress from the muscles and tissue\, followed by a full body scan with Guided Meditation\, closing with our Shivasana.
URL:https://padmehum.ca/event/yin-with-guided-meditation-69/
LOCATION:Vita Sana Naturopathic Wellness Clinic\, Unit 110 - 5 Spruce Village Way\, Spruce Grove\, Alberta\, T7X 0J6\, Canada
CATEGORIES:Yin with Guided Meditation
END:VEVENT
BEGIN:VEVENT
DTSTART;TZID=America/Edmonton:20200928T190000
DTEND;TZID=America/Edmonton:20200928T201500
DTSTAMP:20260424T170238
CREATED:20200818T152659Z
LAST-MODIFIED:20200829T031110Z
UID:2076-1601319600-1601324100@padmehum.ca
SUMMARY:*FULL* Yin with Guided Meditation
DESCRIPTION:We take you through a Yin practice\, releasing deep routed tension and stress from the muscles and tissue\, followed by a full body scan with Guided Meditation\, closing with our Shivasana.
URL:https://padmehum.ca/event/yin-with-guided-meditation-68/
LOCATION:Vita Sana Naturopathic Wellness Clinic\, Unit 110 - 5 Spruce Village Way\, Spruce Grove\, Alberta\, T7X 0J6\, Canada
CATEGORIES:Yin with Guided Meditation
END:VEVENT
BEGIN:VEVENT
DTSTART;TZID=America/Edmonton:20200928T173000
DTEND;TZID=America/Edmonton:20200928T183000
DTSTAMP:20260424T170238
CREATED:20200818T152523Z
LAST-MODIFIED:20200902T022408Z
UID:2073-1601314200-1601317800@padmehum.ca
SUMMARY:*FULL* Vinyasa with Yin
DESCRIPTION:Sorry\, class is now full. \n*4-week pre-registered class* \nMoving through a flow\, building heat\, then slowing down into the Yin side\, for some longer held poses\, drawing stress and tension away from the body.
URL:https://padmehum.ca/event/vinyasa-with-yin-13/
LOCATION:Vita Sana Naturopathic Wellness Clinic\, Unit 110 - 5 Spruce Village Way\, Spruce Grove\, Alberta\, T7X 0J6\, Canada
CATEGORIES:Vinyasa with Yin
END:VEVENT
BEGIN:VEVENT
DTSTART;TZID=America/Edmonton:20200926T100000
DTEND;TZID=America/Edmonton:20200926T111500
DTSTAMP:20260424T170238
CREATED:20200818T153906Z
LAST-MODIFIED:20200829T031018Z
UID:2087-1601114400-1601118900@padmehum.ca
SUMMARY:Gentle Hatha Flow (online)
DESCRIPTION:Traditional hatha with a gentle flow followed by a guided meditation. Movement-Breathe-Stillness! All levels welcome and suitable for people recovering from illness and injury. No previous experience required.
URL:https://padmehum.ca/event/gentle-hatha-flow-67/
LOCATION:Zoom
CATEGORIES:Gentle Hatha Flow
END:VEVENT
BEGIN:VEVENT
DTSTART;TZID=America/Edmonton:20200924T190000
DTEND;TZID=America/Edmonton:20200924T201500
DTSTAMP:20260424T170238
CREATED:20200818T152028Z
LAST-MODIFIED:20200829T030948Z
UID:2069-1600974000-1600978500@padmehum.ca
SUMMARY:Yin with Guided Meditation (online)
DESCRIPTION:We take you through a Yin practice\, releasing deep routed tension and stress from the muscles and tissue\, followed by a full body scan with Guided Meditation\, closing with our Shivasana.
URL:https://padmehum.ca/event/yin-with-guided-meditation-67/
LOCATION:Zoom
CATEGORIES:Yin with Guided Meditation
END:VEVENT
BEGIN:VEVENT
DTSTART;TZID=America/Edmonton:20200922T190000
DTEND;TZID=America/Edmonton:20200922T201500
DTSTAMP:20260424T170238
CREATED:20200818T153807Z
LAST-MODIFIED:20200829T030917Z
UID:2085-1600801200-1600805700@padmehum.ca
SUMMARY:*FULL* Yin with Guided Meditation
DESCRIPTION:We take you through a Yin practice\, releasing deep routed tension and stress from the muscles and tissue\, followed by a full body scan with Guided Meditation\, closing with our Shivasana.
URL:https://padmehum.ca/event/yin-with-guided-meditation-63/
LOCATION:Vita Sana Naturopathic Wellness Clinic\, Unit 110 - 5 Spruce Village Way\, Spruce Grove\, Alberta\, T7X 0J6\, Canada
CATEGORIES:Yin with Guided Meditation
END:VEVENT
BEGIN:VEVENT
DTSTART;TZID=America/Edmonton:20200921T190000
DTEND;TZID=America/Edmonton:20200921T201500
DTSTAMP:20260424T170238
CREATED:20200818T151927Z
LAST-MODIFIED:20200829T030848Z
UID:2067-1600714800-1600719300@padmehum.ca
SUMMARY:*FULL* Yin with Guided Meditation
DESCRIPTION:We take you through a Yin practice\, releasing deep routed tension and stress from the muscles and tissue\, followed by a full body scan with Guided Meditation\, closing with our Shivasana.
URL:https://padmehum.ca/event/yin-with-guided-meditation-66/
LOCATION:Vita Sana Naturopathic Wellness Clinic\, Unit 110 - 5 Spruce Village Way\, Spruce Grove\, Alberta\, T7X 0J6\, Canada
CATEGORIES:Yin with Guided Meditation
END:VEVENT
BEGIN:VEVENT
DTSTART;TZID=America/Edmonton:20200921T173000
DTEND;TZID=America/Edmonton:20200921T183000
DTSTAMP:20260424T170238
CREATED:20200818T151705Z
LAST-MODIFIED:20200902T022438Z
UID:2065-1600709400-1600713000@padmehum.ca
SUMMARY:*FULL* Vinyasa with Yin
DESCRIPTION:Sorry\, class is now full. \n*4-week pre-registered class* \nMoving through a flow\, building heat\, then slowing down into the Yin side\, for some longer held poses\, drawing stress and tension away from the body.
URL:https://padmehum.ca/event/vinyasa-with-yin-12/
LOCATION:Vita Sana Naturopathic Wellness Clinic\, Unit 110 - 5 Spruce Village Way\, Spruce Grove\, Alberta\, T7X 0J6\, Canada
CATEGORIES:Vinyasa with Yin
END:VEVENT
BEGIN:VEVENT
DTSTART;TZID=America/Edmonton:20200919T100000
DTEND;TZID=America/Edmonton:20200919T111500
DTSTAMP:20260424T170238
CREATED:20200818T152429Z
LAST-MODIFIED:20200829T030751Z
UID:2071-1600509600-1600514100@padmehum.ca
SUMMARY:Gentle Hatha Flow (online)
DESCRIPTION:Traditional hatha with a gentle flow followed by a guided meditation. Movement-Breathe-Stillness! All levels welcome and suitable for people recovering from illness and injury. No previous experience required.
URL:https://padmehum.ca/event/gentle-hatha-flow-66/
LOCATION:Zoom
CATEGORIES:Gentle Hatha Flow
END:VEVENT
BEGIN:VEVENT
DTSTART;TZID=America/Edmonton:20200917T190000
DTEND;TZID=America/Edmonton:20200917T201500
DTSTAMP:20260424T170238
CREATED:20200818T151445Z
LAST-MODIFIED:20200829T030720Z
UID:2061-1600369200-1600373700@padmehum.ca
SUMMARY:Yin with Guided Meditation (online)
DESCRIPTION:We take you through a Yin practice\, releasing deep routed tension and stress from the muscles and tissue\, followed by a full body scan with Guided Meditation\, closing with our Shivasana.
URL:https://padmehum.ca/event/yin-with-guided-meditation-65/
LOCATION:Zoom
CATEGORIES:Yin with Guided Meditation
END:VEVENT
BEGIN:VEVENT
DTSTART;TZID=America/Edmonton:20200915T190000
DTEND;TZID=America/Edmonton:20200915T201500
DTSTAMP:20260424T170238
CREATED:20200818T151307Z
LAST-MODIFIED:20200829T030656Z
UID:2058-1600196400-1600200900@padmehum.ca
SUMMARY:*FULL* Yin with Guided Meditation
DESCRIPTION:We take you through a Yin practice\, releasing deep routed tension and stress from the muscles and tissue\, followed by a full body scan with Guided Meditation\, closing with our Shivasana.
URL:https://padmehum.ca/event/yin-with-guided-meditation-64/
LOCATION:Vita Sana Naturopathic Wellness Clinic\, Unit 110 - 5 Spruce Village Way\, Spruce Grove\, Alberta\, T7X 0J6\, Canada
CATEGORIES:Yin with Guided Meditation
END:VEVENT
BEGIN:VEVENT
DTSTART;TZID=America/Edmonton:20200914T190000
DTEND;TZID=America/Edmonton:20200914T201500
DTSTAMP:20260424T170238
CREATED:20200818T190826Z
LAST-MODIFIED:20200829T030617Z
UID:2089-1600110000-1600114500@padmehum.ca
SUMMARY:*FULL* Yin with Guided Meditation
DESCRIPTION:We take you through a Yin practice\, releasing deep routed tension and stress from the muscles and tissue\, followed by a full body scan with Guided Meditation\, closing with our Shivasana.
URL:https://padmehum.ca/event/yin-with-guided-meditation-59/
LOCATION:Vita Sana Naturopathic Wellness Clinic\, Unit 110 - 5 Spruce Village Way\, Spruce Grove\, Alberta\, T7X 0J6\, Canada
CATEGORIES:Yin with Guided Meditation
END:VEVENT
BEGIN:VEVENT
DTSTART;TZID=America/Edmonton:20200914T173000
DTEND;TZID=America/Edmonton:20200914T183000
DTSTAMP:20260424T170238
CREATED:20200818T150624Z
LAST-MODIFIED:20200902T022506Z
UID:2048-1600104600-1600108200@padmehum.ca
SUMMARY:*FULL* Vinyasa with Yin
DESCRIPTION:Sorry\, class is now full. \n*4-week pre-registered class* \nMoving through a flow\, building heat\, then slowing down into the Yin side\, for some longer held poses\, drawing stress and tension away from the body.
URL:https://padmehum.ca/event/vinyasa-with-yin-11/
LOCATION:Vita Sana Naturopathic Wellness Clinic\, Unit 110 - 5 Spruce Village Way\, Spruce Grove\, Alberta\, T7X 0J6\, Canada
CATEGORIES:Vinyasa with Yin
END:VEVENT
BEGIN:VEVENT
DTSTART;TZID=America/Edmonton:20200912T100000
DTEND;TZID=America/Edmonton:20200912T111500
DTSTAMP:20260424T170238
CREATED:20200818T151055Z
LAST-MODIFIED:20200829T030521Z
UID:2053-1599904800-1599909300@padmehum.ca
SUMMARY:Gentle Hatha Flow (online)
DESCRIPTION:Traditional hatha with a gentle flow followed by a guided meditation. Movement-Breathe-Stillness! All levels welcome and suitable for people recovering from illness and injury. No previous experience required.
URL:https://padmehum.ca/event/gentle-hatha-flow-64/
LOCATION:Zoom
CATEGORIES:Gentle Hatha Flow
END:VEVENT
END:VCALENDAR