BEGIN:VCALENDAR
VERSION:2.0
PRODID:-//Padme Hum Yoga - ECPv6.15.20//NONSGML v1.0//EN
CALSCALE:GREGORIAN
METHOD:PUBLISH
X-WR-CALNAME:Padme Hum Yoga
X-ORIGINAL-URL:https://padmehum.ca
X-WR-CALDESC:Events for Padme Hum Yoga
REFRESH-INTERVAL;VALUE=DURATION:PT1H
X-Robots-Tag:noindex
X-PUBLISHED-TTL:PT1H
BEGIN:VTIMEZONE
TZID:America/Edmonton
BEGIN:DAYLIGHT
TZOFFSETFROM:-0700
TZOFFSETTO:-0600
TZNAME:MDT
DTSTART:20190310T090000
END:DAYLIGHT
BEGIN:STANDARD
TZOFFSETFROM:-0600
TZOFFSETTO:-0700
TZNAME:MST
DTSTART:20191103T080000
END:STANDARD
BEGIN:DAYLIGHT
TZOFFSETFROM:-0700
TZOFFSETTO:-0600
TZNAME:MDT
DTSTART:20200308T090000
END:DAYLIGHT
BEGIN:STANDARD
TZOFFSETFROM:-0600
TZOFFSETTO:-0700
TZNAME:MST
DTSTART:20201101T080000
END:STANDARD
BEGIN:DAYLIGHT
TZOFFSETFROM:-0700
TZOFFSETTO:-0600
TZNAME:MDT
DTSTART:20210314T090000
END:DAYLIGHT
BEGIN:STANDARD
TZOFFSETFROM:-0600
TZOFFSETTO:-0700
TZNAME:MST
DTSTART:20211107T080000
END:STANDARD
END:VTIMEZONE
BEGIN:VEVENT
DTSTART;TZID=America/Edmonton:20200229T101500
DTEND;TZID=America/Edmonton:20200229T113000
DTSTAMP:20260425T051254
CREATED:20200127T011507Z
LAST-MODIFIED:20200201T012823Z
UID:1697-1582971300-1582975800@padmehum.ca
SUMMARY:Gentle Hatha
DESCRIPTION:Traditional hatha with a gentle flow followed by a guided meditation. Movement-Breathe-Stillness! All levels welcome and suitable for people recovering from illness and injury. No previous experience required.
URL:https://padmehum.ca/event/gentle-hatha-157/
CATEGORIES:Gentle Hatha
END:VEVENT
BEGIN:VEVENT
DTSTART;TZID=America/Edmonton:20200227T190000
DTEND;TZID=America/Edmonton:20200227T201500
DTSTAMP:20260425T051254
CREATED:20200127T011248Z
LAST-MODIFIED:20200201T012056Z
UID:1695-1582830000-1582834500@padmehum.ca
SUMMARY:*FULL* Yin with Guided Meditation
DESCRIPTION:Sorry\, class is full. \nThanks for your interest\, and please stay tuned for future classes.
URL:https://padmehum.ca/event/yin-with-guided-meditation-37/
LOCATION:Vita Sana Naturopathic Wellness Clinic\, Unit 110 - 5 Spruce Village Way\, Spruce Grove\, Alberta\, T7X 0J6\, Canada
CATEGORIES:Yin with Guided Meditation
END:VEVENT
BEGIN:VEVENT
DTSTART;TZID=America/Edmonton:20200227T160000
DTEND;TZID=America/Edmonton:20200227T170000
DTSTAMP:20260425T051254
CREATED:20200127T011147Z
LAST-MODIFIED:20200201T012906Z
UID:1693-1582819200-1582822800@padmehum.ca
SUMMARY:Gentle Hatha
DESCRIPTION:Traditional hatha with a gentle flow followed by a guided meditation. Movement-Breathe-Stillness! All levels welcome and suitable for people recovering from illness and injury. No previous experience required.
URL:https://padmehum.ca/event/gentle-hatha-156/
LOCATION:Private Class
CATEGORIES:Gentle Hatha
END:VEVENT
BEGIN:VEVENT
DTSTART;TZID=America/Edmonton:20200226T170000
DTEND;TZID=America/Edmonton:20200226T180000
DTSTAMP:20260425T051254
CREATED:20200127T011041Z
LAST-MODIFIED:20200201T012929Z
UID:1691-1582736400-1582740000@padmehum.ca
SUMMARY:Gentle Hatha
DESCRIPTION:Traditional hatha with a gentle flow followed by a guided meditation. Movement-Breathe-Stillness! All levels welcome and suitable for people recovering from illness and injury. No previous experience required.
URL:https://padmehum.ca/event/gentle-hatha-155/
LOCATION:Tomahawk Library\, Canada
CATEGORIES:Gentle Hatha
END:VEVENT
BEGIN:VEVENT
DTSTART;TZID=America/Edmonton:20200226T130000
DTEND;TZID=America/Edmonton:20200226T140000
DTSTAMP:20260425T051254
CREATED:20200127T010922Z
LAST-MODIFIED:20200201T012948Z
UID:1689-1582722000-1582725600@padmehum.ca
SUMMARY:Gentle Hatha
DESCRIPTION:Traditional hatha with a gentle flow followed by a guided meditation. Movement-Breathe-Stillness! All levels welcome and suitable for people recovering from illness and injury. No previous experience required.
URL:https://padmehum.ca/event/gentle-hatha-154/
LOCATION:Keephills Community Hall\, RR #1\, Duffield\, AB\, T0E 0N0\, Canada
CATEGORIES:Gentle Hatha
END:VEVENT
BEGIN:VEVENT
DTSTART;TZID=America/Edmonton:20200225T170000
DTEND;TZID=America/Edmonton:20200225T180000
DTSTAMP:20260425T051254
CREATED:20200127T010831Z
LAST-MODIFIED:20200201T013006Z
UID:1687-1582650000-1582653600@padmehum.ca
SUMMARY:Gentle Hatha
DESCRIPTION:Traditional hatha with a gentle flow followed by a guided meditation. Movement-Breathe-Stillness! All levels welcome and suitable for people recovering from illness and injury. No previous experience required.
URL:https://padmehum.ca/event/gentle-hatha-153/
LOCATION:Entwistle Library
CATEGORIES:Gentle Hatha
END:VEVENT
BEGIN:VEVENT
DTSTART;TZID=America/Edmonton:20200224T173000
DTEND;TZID=America/Edmonton:20200224T183000
DTSTAMP:20260425T051255
CREATED:20200127T010617Z
LAST-MODIFIED:20200201T013023Z
UID:1685-1582565400-1582569000@padmehum.ca
SUMMARY:Gentle Hatha
DESCRIPTION:Traditional hatha with a gentle flow followed by a guided meditation. Movement-Breathe-Stillness! All levels welcome and suitable for people recovering from illness and injury. No previous experience required.
URL:https://padmehum.ca/event/gentle-hatha-152/
CATEGORIES:Gentle Hatha
END:VEVENT
BEGIN:VEVENT
DTSTART;TZID=America/Edmonton:20200222T101500
DTEND;TZID=America/Edmonton:20200222T113000
DTSTAMP:20260425T051255
CREATED:20200127T010533Z
LAST-MODIFIED:20200201T013040Z
UID:1683-1582366500-1582371000@padmehum.ca
SUMMARY:Gentle Hatha
DESCRIPTION:Traditional hatha with a gentle flow followed by a guided meditation. Movement-Breathe-Stillness! All levels welcome and suitable for people recovering from illness and injury. No previous experience required.
URL:https://padmehum.ca/event/gentle-hatha-151/
CATEGORIES:Gentle Hatha
END:VEVENT
BEGIN:VEVENT
DTSTART;TZID=America/Edmonton:20200220T190000
DTEND;TZID=America/Edmonton:20200220T201500
DTSTAMP:20260425T051255
CREATED:20200127T010425Z
LAST-MODIFIED:20200201T011959Z
UID:1681-1582225200-1582229700@padmehum.ca
SUMMARY:*FULL* Yin with Guided Meditation
DESCRIPTION:Sorry\, class is full. \nThanks for your interest\, and please stay tuned for future classes.
URL:https://padmehum.ca/event/yin-with-guided-meditation-36/
LOCATION:Vita Sana Naturopathic Wellness Clinic\, Unit 110 - 5 Spruce Village Way\, Spruce Grove\, Alberta\, T7X 0J6\, Canada
CATEGORIES:Yin with Guided Meditation
END:VEVENT
BEGIN:VEVENT
DTSTART;TZID=America/Edmonton:20200220T160000
DTEND;TZID=America/Edmonton:20200220T170000
DTSTAMP:20260425T051255
CREATED:20200127T010334Z
LAST-MODIFIED:20200201T013058Z
UID:1679-1582214400-1582218000@padmehum.ca
SUMMARY:Gentle Hatha
DESCRIPTION:Traditional hatha with a gentle flow followed by a guided meditation. Movement-Breathe-Stillness! All levels welcome and suitable for people recovering from illness and injury. No previous experience required.
URL:https://padmehum.ca/event/gentle-hatha-150/
LOCATION:Private Class
CATEGORIES:Gentle Hatha
END:VEVENT
BEGIN:VEVENT
DTSTART;TZID=America/Edmonton:20200219T170000
DTEND;TZID=America/Edmonton:20200219T180000
DTSTAMP:20260425T051255
CREATED:20200127T010244Z
LAST-MODIFIED:20200201T013123Z
UID:1677-1582131600-1582135200@padmehum.ca
SUMMARY:Gentle Hatha
DESCRIPTION:Traditional hatha with a gentle flow followed by a guided meditation. Movement-Breathe-Stillness! All levels welcome and suitable for people recovering from illness and injury. No previous experience required.
URL:https://padmehum.ca/event/gentle-hatha-149/
LOCATION:Tomahawk Library\, Canada
CATEGORIES:Gentle Hatha
END:VEVENT
BEGIN:VEVENT
DTSTART;TZID=America/Edmonton:20200219T130000
DTEND;TZID=America/Edmonton:20200219T140000
DTSTAMP:20260425T051255
CREATED:20200127T010148Z
LAST-MODIFIED:20200201T013140Z
UID:1675-1582117200-1582120800@padmehum.ca
SUMMARY:Gentle Hatha
DESCRIPTION:Traditional hatha with a gentle flow followed by a guided meditation. Movement-Breathe-Stillness! All levels welcome and suitable for people recovering from illness and injury. No previous experience required.
URL:https://padmehum.ca/event/gentle-hatha-148/
LOCATION:Keephills Community Hall\, RR #1\, Duffield\, AB\, T0E 0N0\, Canada
CATEGORIES:Gentle Hatha
END:VEVENT
BEGIN:VEVENT
DTSTART;TZID=America/Edmonton:20200218T170000
DTEND;TZID=America/Edmonton:20200218T180000
DTSTAMP:20260425T051255
CREATED:20200127T010034Z
LAST-MODIFIED:20200201T013156Z
UID:1673-1582045200-1582048800@padmehum.ca
SUMMARY:Gentle Hatha
DESCRIPTION:Traditional hatha with a gentle flow followed by a guided meditation. Movement-Breathe-Stillness! All levels welcome and suitable for people recovering from illness and injury. No previous experience required.
URL:https://padmehum.ca/event/gentle-hatha-147/
LOCATION:Entwistle Library
CATEGORIES:Gentle Hatha
END:VEVENT
BEGIN:VEVENT
DTSTART;TZID=America/Edmonton:20200217T173000
DTEND;TZID=America/Edmonton:20200217T183000
DTSTAMP:20260425T051255
CREATED:20200212T001154Z
LAST-MODIFIED:20200212T001154Z
UID:1738-1581960600-1581964200@padmehum.ca
SUMMARY:Gentle Hatha
DESCRIPTION:
URL:https://padmehum.ca/event/gentle-hatha-158/
CATEGORIES:Gentle Hatha
END:VEVENT
BEGIN:VEVENT
DTSTART;TZID=America/Edmonton:20200216T190000
DTEND;TZID=America/Edmonton:20200216T201500
DTSTAMP:20260425T051255
CREATED:20200127T005942Z
LAST-MODIFIED:20200207T174706Z
UID:1671-1581879600-1581884100@padmehum.ca
SUMMARY:*FULL* Yin with Acupuncture
DESCRIPTION:*Sorry\, this class is full\, but 2nd class has been opened at 5pm* \nJoin Kim & Bavi for a customized Yin yoga class with acupuncture. \nThis unique class will focus the Heart Chakra and Healing Emotions. \nBavi is a registered acupuncturist from Bloom Therapy!  If you have benefits that cover acupuncture\, receipts are available. \n 
URL:https://padmehum.ca/event/yin-with-acupuncture-2/
LOCATION:Vita Sana Naturopathic Wellness Clinic\, Unit 110 - 5 Spruce Village Way\, Spruce Grove\, Alberta\, T7X 0J6\, Canada
CATEGORIES:Yin with Acupuncture
END:VEVENT
BEGIN:VEVENT
DTSTART;TZID=America/Edmonton:20200215T101500
DTEND;TZID=America/Edmonton:20200215T113000
DTSTAMP:20260425T051255
CREATED:20200212T001049Z
LAST-MODIFIED:20200212T001049Z
UID:1736-1581761700-1581766200@padmehum.ca
SUMMARY:Gentle Hatha
DESCRIPTION: 
URL:https://padmehum.ca/event/gentle-hatha-144/
CATEGORIES:Gentle Hatha
END:VEVENT
BEGIN:VEVENT
DTSTART;TZID=America/Edmonton:20200213T190000
DTEND;TZID=America/Edmonton:20200213T201500
DTSTAMP:20260425T051255
CREATED:20200127T005809Z
LAST-MODIFIED:20200201T011858Z
UID:1669-1581620400-1581624900@padmehum.ca
SUMMARY:*FULL* Yin with Guided Meditation
DESCRIPTION:Sorry\, class is full. \nThanks for your interest\, and please stay tuned for future classes.
URL:https://padmehum.ca/event/yin-with-guided-meditation-35/
LOCATION:Vita Sana Naturopathic Wellness Clinic\, Unit 110 - 5 Spruce Village Way\, Spruce Grove\, Alberta\, T7X 0J6\, Canada
CATEGORIES:Yin with Guided Meditation
END:VEVENT
BEGIN:VEVENT
DTSTART;TZID=America/Edmonton:20200213T160000
DTEND;TZID=America/Edmonton:20200213T170000
DTSTAMP:20260425T051255
CREATED:20200127T004301Z
LAST-MODIFIED:20200201T013214Z
UID:1667-1581609600-1581613200@padmehum.ca
SUMMARY:Gentle Hatha
DESCRIPTION:Traditional hatha with a gentle flow followed by a guided meditation. Movement-Breathe-Stillness! All levels welcome and suitable for people recovering from illness and injury. No previous experience required.
URL:https://padmehum.ca/event/gentle-hatha-146/
LOCATION:Private Class
CATEGORIES:Gentle Hatha
END:VEVENT
BEGIN:VEVENT
DTSTART;TZID=America/Edmonton:20200212T170000
DTEND;TZID=America/Edmonton:20200212T180000
DTSTAMP:20260425T051255
CREATED:20200127T004212Z
LAST-MODIFIED:20200201T013231Z
UID:1665-1581526800-1581530400@padmehum.ca
SUMMARY:Gentle Hatha
DESCRIPTION:Traditional hatha with a gentle flow followed by a guided meditation. Movement-Breathe-Stillness! All levels welcome and suitable for people recovering from illness and injury. No previous experience required.
URL:https://padmehum.ca/event/gentle-hatha-145/
LOCATION:Tomahawk Library\, Canada
CATEGORIES:Gentle Hatha
END:VEVENT
BEGIN:VEVENT
DTSTART;TZID=America/Edmonton:20200212T130000
DTEND;TZID=America/Edmonton:20200212T140000
DTSTAMP:20260425T051255
CREATED:20200127T004043Z
LAST-MODIFIED:20200201T013251Z
UID:1661-1581512400-1581516000@padmehum.ca
SUMMARY:Gentle Hatha
DESCRIPTION:Traditional hatha with a gentle flow followed by a guided meditation. Movement-Breathe-Stillness! All levels welcome and suitable for people recovering from illness and injury. No previous experience required.
URL:https://padmehum.ca/event/gentle-hatha-143/
LOCATION:Keephills Community Hall\, RR #1\, Duffield\, AB\, T0E 0N0\, Canada
CATEGORIES:Gentle Hatha
END:VEVENT
BEGIN:VEVENT
DTSTART;TZID=America/Edmonton:20200211T170000
DTEND;TZID=America/Edmonton:20200211T180000
DTSTAMP:20260425T051255
CREATED:20200127T003931Z
LAST-MODIFIED:20200201T013308Z
UID:1659-1581440400-1581444000@padmehum.ca
SUMMARY:Gentle Hatha
DESCRIPTION:Traditional hatha with a gentle flow followed by a guided meditation. Movement-Breathe-Stillness! All levels welcome and suitable for people recovering from illness and injury. No previous experience required.
URL:https://padmehum.ca/event/gentle-hatha-142/
LOCATION:Entwistle Library
CATEGORIES:Gentle Hatha
END:VEVENT
BEGIN:VEVENT
DTSTART;TZID=America/Edmonton:20200210T173000
DTEND;TZID=America/Edmonton:20200210T183000
DTSTAMP:20260425T051255
CREATED:20200127T003817Z
LAST-MODIFIED:20200201T013325Z
UID:1657-1581355800-1581359400@padmehum.ca
SUMMARY:Gentle Hatha
DESCRIPTION:Traditional hatha with a gentle flow followed by a guided meditation. Movement-Breathe-Stillness! All levels welcome and suitable for people recovering from illness and injury. No previous experience required.
URL:https://padmehum.ca/event/gentle-hatha-141/
CATEGORIES:Gentle Hatha
END:VEVENT
BEGIN:VEVENT
DTSTART;TZID=America/Edmonton:20200206T190000
DTEND;TZID=America/Edmonton:20200206T201500
DTSTAMP:20260425T051255
CREATED:20200127T003705Z
LAST-MODIFIED:20200201T011713Z
UID:1655-1581015600-1581020100@padmehum.ca
SUMMARY:*FULL* Yin with Guided Meditation
DESCRIPTION:Sorry\, class is full. \nThanks for your interest\, and stay tuned for future classes. \n 
URL:https://padmehum.ca/event/yin-with-guided-meditation-34/
LOCATION:Vita Sana Naturopathic Wellness Clinic\, Unit 110 - 5 Spruce Village Way\, Spruce Grove\, Alberta\, T7X 0J6\, Canada
CATEGORIES:Yin with Guided Meditation
END:VEVENT
BEGIN:VEVENT
DTSTART;TZID=America/Edmonton:20200206T160000
DTEND;TZID=America/Edmonton:20200206T170000
DTSTAMP:20260425T051255
CREATED:20200127T003515Z
LAST-MODIFIED:20200201T013359Z
UID:1653-1581004800-1581008400@padmehum.ca
SUMMARY:Gentle Hatha
DESCRIPTION:Traditional hatha with a gentle flow followed by a guided meditation. Movement-Breathe-Stillness! All levels welcome and suitable for people recovering from illness and injury. No previous experience required.
URL:https://padmehum.ca/event/gentle-hatha-140/
LOCATION:Private Class
CATEGORIES:Gentle Hatha
END:VEVENT
BEGIN:VEVENT
DTSTART;TZID=America/Edmonton:20200130T190000
DTEND;TZID=America/Edmonton:20200130T201500
DTSTAMP:20260425T051255
CREATED:20191202T015626Z
LAST-MODIFIED:20191202T015626Z
UID:1594-1580410800-1580415300@padmehum.ca
SUMMARY:*FULL* Yin with Guided Meditation
DESCRIPTION:
URL:https://padmehum.ca/event/full-yin-with-guided-meditation-5/
LOCATION:Vita Sana Naturopathic Wellness Clinic\, Unit 110 - 5 Spruce Village Way\, Spruce Grove\, Alberta\, T7X 0J6\, Canada
CATEGORIES:Yin with Guided Meditation
END:VEVENT
BEGIN:VEVENT
DTSTART;TZID=America/Edmonton:20200130T160000
DTEND;TZID=America/Edmonton:20200130T170000
DTSTAMP:20260425T051255
CREATED:20191229T223211Z
LAST-MODIFIED:20191229T223211Z
UID:1641-1580400000-1580403600@padmehum.ca
SUMMARY:Gentle Hatha Flow
DESCRIPTION:
URL:https://padmehum.ca/event/gentle-hatha-flow-55/
LOCATION:Private Class
END:VEVENT
BEGIN:VEVENT
DTSTART;TZID=America/Edmonton:20200129T170000
DTEND;TZID=America/Edmonton:20200129T180000
DTSTAMP:20260425T051255
CREATED:20191229T223137Z
LAST-MODIFIED:20191229T223137Z
UID:1639-1580317200-1580320800@padmehum.ca
SUMMARY:Gentle Hatha
DESCRIPTION:
URL:https://padmehum.ca/event/gentle-hatha-139/
LOCATION:Tomahawk Library\, Canada
CATEGORIES:Gentle Hatha
END:VEVENT
BEGIN:VEVENT
DTSTART;TZID=America/Edmonton:20200129T130000
DTEND;TZID=America/Edmonton:20200129T140000
DTSTAMP:20260425T051255
CREATED:20191229T223104Z
LAST-MODIFIED:20191229T223104Z
UID:1637-1580302800-1580306400@padmehum.ca
SUMMARY:Gentle Hatha
DESCRIPTION:
URL:https://padmehum.ca/event/gentle-hatha-138/
LOCATION:Keephills Community Hall\, RR #1\, Duffield\, AB\, T0E 0N0\, Canada
CATEGORIES:Gentle Hatha
END:VEVENT
BEGIN:VEVENT
DTSTART;TZID=America/Edmonton:20200128T171500
DTEND;TZID=America/Edmonton:20200128T181500
DTSTAMP:20260425T051255
CREATED:20191229T223030Z
LAST-MODIFIED:20191229T223030Z
UID:1635-1580231700-1580235300@padmehum.ca
SUMMARY:Gentle Hatha
DESCRIPTION:
URL:https://padmehum.ca/event/gentle-hatha-137/
LOCATION:Entwistle Library
CATEGORIES:Gentle Hatha
END:VEVENT
BEGIN:VEVENT
DTSTART;TZID=America/Edmonton:20200127T173000
DTEND;TZID=America/Edmonton:20200127T183000
DTSTAMP:20260425T051255
CREATED:20191229T222947Z
LAST-MODIFIED:20191229T222947Z
UID:1633-1580146200-1580149800@padmehum.ca
SUMMARY:Gentle Hatha
DESCRIPTION:
URL:https://padmehum.ca/event/gentle-hatha-136/
CATEGORIES:Gentle Hatha
END:VEVENT
END:VCALENDAR