BEGIN:VCALENDAR
VERSION:2.0
PRODID:-//Padme Hum Yoga - ECPv6.15.20//NONSGML v1.0//EN
CALSCALE:GREGORIAN
METHOD:PUBLISH
X-WR-CALNAME:Padme Hum Yoga
X-ORIGINAL-URL:https://padmehum.ca
X-WR-CALDESC:Events for Padme Hum Yoga
REFRESH-INTERVAL;VALUE=DURATION:PT1H
X-Robots-Tag:noindex
X-PUBLISHED-TTL:PT1H
BEGIN:VTIMEZONE
TZID:America/Edmonton
BEGIN:DAYLIGHT
TZOFFSETFROM:-0700
TZOFFSETTO:-0600
TZNAME:MDT
DTSTART:20180311T090000
END:DAYLIGHT
BEGIN:STANDARD
TZOFFSETFROM:-0600
TZOFFSETTO:-0700
TZNAME:MST
DTSTART:20181104T080000
END:STANDARD
BEGIN:DAYLIGHT
TZOFFSETFROM:-0700
TZOFFSETTO:-0600
TZNAME:MDT
DTSTART:20190310T090000
END:DAYLIGHT
BEGIN:STANDARD
TZOFFSETFROM:-0600
TZOFFSETTO:-0700
TZNAME:MST
DTSTART:20191103T080000
END:STANDARD
BEGIN:DAYLIGHT
TZOFFSETFROM:-0700
TZOFFSETTO:-0600
TZNAME:MDT
DTSTART:20200308T090000
END:DAYLIGHT
BEGIN:STANDARD
TZOFFSETFROM:-0600
TZOFFSETTO:-0700
TZNAME:MST
DTSTART:20201101T080000
END:STANDARD
BEGIN:DAYLIGHT
TZOFFSETFROM:-0700
TZOFFSETTO:-0600
TZNAME:MDT
DTSTART:20210314T090000
END:DAYLIGHT
BEGIN:STANDARD
TZOFFSETFROM:-0600
TZOFFSETTO:-0700
TZNAME:MST
DTSTART:20211107T080000
END:STANDARD
END:VTIMEZONE
BEGIN:VEVENT
DTSTART;TZID=America/Edmonton:20200123T190000
DTEND;TZID=America/Edmonton:20200123T201500
DTSTAMP:20260425T085419
CREATED:20191202T015538Z
LAST-MODIFIED:20191202T015538Z
UID:1592-1579806000-1579810500@padmehum.ca
SUMMARY:*FULL* Yin with Guided Meditation
DESCRIPTION:
URL:https://padmehum.ca/event/full-yin-with-guided-meditation-4/
LOCATION:Vita Sana Naturopathic Wellness Clinic\, Unit 110 - 5 Spruce Village Way\, Spruce Grove\, Alberta\, T7X 0J6\, Canada
CATEGORIES:Yin with Guided Meditation
END:VEVENT
BEGIN:VEVENT
DTSTART;TZID=America/Edmonton:20200123T160000
DTEND;TZID=America/Edmonton:20200123T170000
DTSTAMP:20260425T085419
CREATED:20191229T222855Z
LAST-MODIFIED:20191229T222855Z
UID:1631-1579795200-1579798800@padmehum.ca
SUMMARY:Gentle Hatha Flow
DESCRIPTION:
URL:https://padmehum.ca/event/gentle-hatha-flow-54/
LOCATION:Private Class
END:VEVENT
BEGIN:VEVENT
DTSTART;TZID=America/Edmonton:20200122T170000
DTEND;TZID=America/Edmonton:20200122T180000
DTSTAMP:20260425T085419
CREATED:20191229T222821Z
LAST-MODIFIED:20191229T222821Z
UID:1629-1579712400-1579716000@padmehum.ca
SUMMARY:Gentle Hatha
DESCRIPTION:
URL:https://padmehum.ca/event/gentle-hatha-135/
LOCATION:Tomahawk Library\, Canada
CATEGORIES:Gentle Hatha
END:VEVENT
BEGIN:VEVENT
DTSTART;TZID=America/Edmonton:20200122T130000
DTEND;TZID=America/Edmonton:20200122T140000
DTSTAMP:20260425T085419
CREATED:20191229T222751Z
LAST-MODIFIED:20191229T222751Z
UID:1627-1579698000-1579701600@padmehum.ca
SUMMARY:Gentle Hatha
DESCRIPTION:
URL:https://padmehum.ca/event/gentle-hatha-134/
LOCATION:Keephills Community Hall\, RR #1\, Duffield\, AB\, T0E 0N0\, Canada
CATEGORIES:Gentle Hatha
END:VEVENT
BEGIN:VEVENT
DTSTART;TZID=America/Edmonton:20200121T171500
DTEND;TZID=America/Edmonton:20200121T181500
DTSTAMP:20260425T085419
CREATED:20191229T222703Z
LAST-MODIFIED:20191229T222703Z
UID:1625-1579626900-1579630500@padmehum.ca
SUMMARY:Gentle Hatha
DESCRIPTION:
URL:https://padmehum.ca/event/gentle-hatha-133/
LOCATION:Entwistle Library
CATEGORIES:Gentle Hatha
END:VEVENT
BEGIN:VEVENT
DTSTART;TZID=America/Edmonton:20200120T173000
DTEND;TZID=America/Edmonton:20200120T183000
DTSTAMP:20260425T085419
CREATED:20191229T222616Z
LAST-MODIFIED:20191229T222616Z
UID:1623-1579541400-1579545000@padmehum.ca
SUMMARY:Gentle Hatha
DESCRIPTION:
URL:https://padmehum.ca/event/gentle-hatha-132/
CATEGORIES:Gentle Hatha
END:VEVENT
BEGIN:VEVENT
DTSTART;TZID=America/Edmonton:20200119T190000
DTEND;TZID=America/Edmonton:20200119T201500
DTSTAMP:20260425T085419
CREATED:20200113T041140Z
LAST-MODIFIED:20200113T041140Z
UID:1644-1579460400-1579464900@padmehum.ca
SUMMARY:Yin with Acupuncture
DESCRIPTION:
URL:https://padmehum.ca/event/yin-with-acupuncture/
LOCATION:Vita Sana Naturopathic Wellness Clinic\, Unit 110 - 5 Spruce Village Way\, Spruce Grove\, Alberta\, T7X 0J6\, Canada
CATEGORIES:Yin with Acupuncture
END:VEVENT
BEGIN:VEVENT
DTSTART;TZID=America/Edmonton:20200116T190000
DTEND;TZID=America/Edmonton:20200116T201500
DTSTAMP:20260425T085419
CREATED:20191202T015436Z
LAST-MODIFIED:20191202T015436Z
UID:1590-1579201200-1579205700@padmehum.ca
SUMMARY:*FULL* Yin with Guided Meditation
DESCRIPTION:
URL:https://padmehum.ca/event/full-yin-with-guided-meditation-3/
LOCATION:Vita Sana Naturopathic Wellness Clinic\, Unit 110 - 5 Spruce Village Way\, Spruce Grove\, Alberta\, T7X 0J6\, Canada
CATEGORIES:Yin with Guided Meditation
END:VEVENT
BEGIN:VEVENT
DTSTART;TZID=America/Edmonton:20200116T160000
DTEND;TZID=America/Edmonton:20200116T170000
DTSTAMP:20260425T085419
CREATED:20191229T222526Z
LAST-MODIFIED:20191229T222526Z
UID:1619-1579190400-1579194000@padmehum.ca
SUMMARY:Gentle Hatha Flow
DESCRIPTION:
URL:https://padmehum.ca/event/gentle-hatha-flow-53/
LOCATION:Private Class
END:VEVENT
BEGIN:VEVENT
DTSTART;TZID=America/Edmonton:20200115T170000
DTEND;TZID=America/Edmonton:20200115T180000
DTSTAMP:20260425T085419
CREATED:20191229T222055Z
LAST-MODIFIED:20200115T195731Z
UID:1617-1579107600-1579111200@padmehum.ca
SUMMARY:*Cancelled due to weather*Gentle Hatha
DESCRIPTION:Sorry\, class cancelled due to extreme cold.
URL:https://padmehum.ca/event/gentle-hatha-131/
LOCATION:Tomahawk Library\, Canada
CATEGORIES:Gentle Hatha
END:VEVENT
BEGIN:VEVENT
DTSTART;TZID=America/Edmonton:20200115T130000
DTEND;TZID=America/Edmonton:20200115T140000
DTSTAMP:20260425T085419
CREATED:20191229T222011Z
LAST-MODIFIED:20200115T195645Z
UID:1615-1579093200-1579096800@padmehum.ca
SUMMARY:*Cancelled due to weather*Gentle Hatha
DESCRIPTION:Sorry\, class cancelled due to extreme cold.
URL:https://padmehum.ca/event/gentle-hatha-130/
LOCATION:Keephills Community Hall\, RR #1\, Duffield\, AB\, T0E 0N0\, Canada
CATEGORIES:Gentle Hatha
END:VEVENT
BEGIN:VEVENT
DTSTART;TZID=America/Edmonton:20200114T171500
DTEND;TZID=America/Edmonton:20200114T181500
DTSTAMP:20260425T085419
CREATED:20191229T221914Z
LAST-MODIFIED:20191229T221914Z
UID:1612-1579022100-1579025700@padmehum.ca
SUMMARY:Gentle Hatha
DESCRIPTION:
URL:https://padmehum.ca/event/gentle-hatha-129/
LOCATION:Entwistle Library
CATEGORIES:Gentle Hatha
END:VEVENT
BEGIN:VEVENT
DTSTART;TZID=America/Edmonton:20200113T173000
DTEND;TZID=America/Edmonton:20200113T183000
DTSTAMP:20260425T085419
CREATED:20191229T221826Z
LAST-MODIFIED:20191229T221826Z
UID:1610-1578936600-1578940200@padmehum.ca
SUMMARY:Gentle Hatha
DESCRIPTION:
URL:https://padmehum.ca/event/gentle-hatha-128/
CATEGORIES:Gentle Hatha
END:VEVENT
BEGIN:VEVENT
DTSTART;TZID=America/Edmonton:20200109T190000
DTEND;TZID=America/Edmonton:20200109T201500
DTSTAMP:20260425T085419
CREATED:20191202T015336Z
LAST-MODIFIED:20191202T015336Z
UID:1588-1578596400-1578600900@padmehum.ca
SUMMARY:*FULL* Yin with Guided Meditation
DESCRIPTION:
URL:https://padmehum.ca/event/full-yin-with-guided-meditation-2/
LOCATION:Vita Sana Naturopathic Wellness Clinic\, Unit 110 - 5 Spruce Village Way\, Spruce Grove\, Alberta\, T7X 0J6\, Canada
CATEGORIES:Yin with Guided Meditation
END:VEVENT
BEGIN:VEVENT
DTSTART;TZID=America/Edmonton:20200109T160000
DTEND;TZID=America/Edmonton:20200109T170000
DTSTAMP:20260425T085419
CREATED:20191229T221743Z
LAST-MODIFIED:20191229T221743Z
UID:1608-1578585600-1578589200@padmehum.ca
SUMMARY:Gentle Hatha Flow
DESCRIPTION:
URL:https://padmehum.ca/event/gentle-hatha-flow-52/
LOCATION:Private Class
END:VEVENT
BEGIN:VEVENT
DTSTART;TZID=America/Edmonton:20200108T170000
DTEND;TZID=America/Edmonton:20200108T180000
DTSTAMP:20260425T085419
CREATED:20191229T221556Z
LAST-MODIFIED:20191229T221556Z
UID:1603-1578502800-1578506400@padmehum.ca
SUMMARY:Gentle Hatha
DESCRIPTION:
URL:https://padmehum.ca/event/gentle-hatha-127/
LOCATION:Tomahawk Library\, Canada
CATEGORIES:Gentle Hatha
END:VEVENT
BEGIN:VEVENT
DTSTART;TZID=America/Edmonton:20200108T130000
DTEND;TZID=America/Edmonton:20200108T140000
DTSTAMP:20260425T085419
CREATED:20191229T221411Z
LAST-MODIFIED:20191229T221411Z
UID:1601-1578488400-1578492000@padmehum.ca
SUMMARY:Gentle Hatha
DESCRIPTION:
URL:https://padmehum.ca/event/gentle-hatha-126/
LOCATION:Keephills Community Hall\, RR #1\, Duffield\, AB\, T0E 0N0\, Canada
CATEGORIES:Gentle Hatha
END:VEVENT
BEGIN:VEVENT
DTSTART;TZID=America/Edmonton:20200106T173000
DTEND;TZID=America/Edmonton:20200106T183000
DTSTAMP:20260425T085419
CREATED:20191229T221312Z
LAST-MODIFIED:20191229T221312Z
UID:1599-1578331800-1578335400@padmehum.ca
SUMMARY:Gentle Hatha
DESCRIPTION:
URL:https://padmehum.ca/event/gentle-hatha-125/
CATEGORIES:Gentle Hatha
END:VEVENT
BEGIN:VEVENT
DTSTART;TZID=America/Edmonton:20200102T190000
DTEND;TZID=America/Edmonton:20200102T201500
DTSTAMP:20260425T085419
CREATED:20191202T015131Z
LAST-MODIFIED:20191202T015131Z
UID:1585-1577991600-1577996100@padmehum.ca
SUMMARY:*FULL* Yin with Guided Meditation
DESCRIPTION:
URL:https://padmehum.ca/event/full-yin-with-guided-meditation/
LOCATION:Vita Sana Naturopathic Wellness Clinic\, Unit 110 - 5 Spruce Village Way\, Spruce Grove\, Alberta\, T7X 0J6\, Canada
CATEGORIES:Yin with Guided Meditation
END:VEVENT
BEGIN:VEVENT
DTSTART;TZID=America/Edmonton:20191223T173000
DTEND;TZID=America/Edmonton:20191223T183000
DTSTAMP:20260425T085419
CREATED:20191125T014701Z
LAST-MODIFIED:20191125T014701Z
UID:1582-1577122200-1577125800@padmehum.ca
SUMMARY:Gentle Hatha
DESCRIPTION:
URL:https://padmehum.ca/event/gentle-hatha-124/
CATEGORIES:Gentle Hatha
END:VEVENT
BEGIN:VEVENT
DTSTART;TZID=America/Edmonton:20191221T100000
DTEND;TZID=America/Edmonton:20191221T111500
DTSTAMP:20260425T085419
CREATED:20191125T014241Z
LAST-MODIFIED:20191125T014241Z
UID:1574-1576922400-1576926900@padmehum.ca
SUMMARY:Gentle Hatha Flow
DESCRIPTION:
URL:https://padmehum.ca/event/gentle-hatha-flow-51/
END:VEVENT
BEGIN:VEVENT
DTSTART;TZID=America/Edmonton:20191218T170000
DTEND;TZID=America/Edmonton:20191218T180000
DTSTAMP:20260425T085419
CREATED:20191125T014602Z
LAST-MODIFIED:20191125T014602Z
UID:1580-1576688400-1576692000@padmehum.ca
SUMMARY:Gentle Hatha
DESCRIPTION:
URL:https://padmehum.ca/event/gentle-hatha-123/
LOCATION:Private Class
CATEGORIES:Gentle Hatha
END:VEVENT
BEGIN:VEVENT
DTSTART;TZID=America/Edmonton:20191217T183000
DTEND;TZID=America/Edmonton:20191217T194500
DTSTAMP:20260425T085419
CREATED:20191125T014131Z
LAST-MODIFIED:20191125T014131Z
UID:1572-1576607400-1576611900@padmehum.ca
SUMMARY:Yin
DESCRIPTION:
URL:https://padmehum.ca/event/yin-93/
CATEGORIES:Yin
END:VEVENT
BEGIN:VEVENT
DTSTART;TZID=America/Edmonton:20191216T173000
DTEND;TZID=America/Edmonton:20191216T183000
DTSTAMP:20260425T085419
CREATED:20191125T014015Z
LAST-MODIFIED:20191125T014015Z
UID:1570-1576517400-1576521000@padmehum.ca
SUMMARY:Gentle Hatha
DESCRIPTION:
URL:https://padmehum.ca/event/gentle-hatha-120/
CATEGORIES:Gentle Hatha
END:VEVENT
BEGIN:VEVENT
DTSTART;TZID=America/Edmonton:20191211T170000
DTEND;TZID=America/Edmonton:20191211T180000
DTSTAMP:20260425T085419
CREATED:20191125T014506Z
LAST-MODIFIED:20191125T014506Z
UID:1578-1576083600-1576087200@padmehum.ca
SUMMARY:Gentle Hatha
DESCRIPTION:
URL:https://padmehum.ca/event/gentle-hatha-122/
LOCATION:Private Class
CATEGORIES:Gentle Hatha
END:VEVENT
BEGIN:VEVENT
DTSTART;TZID=America/Edmonton:20191210T183000
DTEND;TZID=America/Edmonton:20191210T194500
DTSTAMP:20260425T085419
CREATED:20191125T013916Z
LAST-MODIFIED:20191125T013916Z
UID:1568-1576002600-1576007100@padmehum.ca
SUMMARY:Yin
DESCRIPTION:
URL:https://padmehum.ca/event/yin-92/
CATEGORIES:Yin
END:VEVENT
BEGIN:VEVENT
DTSTART;TZID=America/Edmonton:20191209T173000
DTEND;TZID=America/Edmonton:20191209T183000
DTSTAMP:20260425T085419
CREATED:20191125T013827Z
LAST-MODIFIED:20191125T013827Z
UID:1566-1575912600-1575916200@padmehum.ca
SUMMARY:Gentle Hatha
DESCRIPTION:
URL:https://padmehum.ca/event/gentle-hatha-119/
CATEGORIES:Gentle Hatha
END:VEVENT
BEGIN:VEVENT
DTSTART;TZID=America/Edmonton:20191207T100000
DTEND;TZID=America/Edmonton:20191207T111500
DTSTAMP:20260425T085419
CREATED:20191125T013720Z
LAST-MODIFIED:20191125T013720Z
UID:1564-1575712800-1575717300@padmehum.ca
SUMMARY:Gentle Hatha Flow
DESCRIPTION:
URL:https://padmehum.ca/event/gentle-hatha-flow-46/
END:VEVENT
BEGIN:VEVENT
DTSTART;TZID=America/Edmonton:20191205T160000
DTEND;TZID=America/Edmonton:20191205T170000
DTSTAMP:20260425T085419
CREATED:20191125T014422Z
LAST-MODIFIED:20191125T014422Z
UID:1576-1575561600-1575565200@padmehum.ca
SUMMARY:Gentle Hatha
DESCRIPTION:
URL:https://padmehum.ca/event/gentle-hatha-121/
CATEGORIES:Gentle Hatha
END:VEVENT
BEGIN:VEVENT
DTSTART;TZID=America/Edmonton:20191204T170000
DTEND;TZID=America/Edmonton:20191204T180000
DTSTAMP:20260425T085419
CREATED:20191125T013536Z
LAST-MODIFIED:20191125T013536Z
UID:1562-1575478800-1575482400@padmehum.ca
SUMMARY:Gentle Hatha
DESCRIPTION:
URL:https://padmehum.ca/event/gentle-hatha-118/
LOCATION:Sculpt Fit\, 116 1 Hawthorn Gate\, Spruce Grove\, Alberta\, T7X 0A6\, Canada
CATEGORIES:Gentle Hatha
END:VEVENT
END:VCALENDAR