BEGIN:VCALENDAR
VERSION:2.0
PRODID:-//Padme Hum Yoga - ECPv6.15.20//NONSGML v1.0//EN
CALSCALE:GREGORIAN
METHOD:PUBLISH
X-WR-CALNAME:Padme Hum Yoga
X-ORIGINAL-URL:https://padmehum.ca
X-WR-CALDESC:Events for Padme Hum Yoga
REFRESH-INTERVAL;VALUE=DURATION:PT1H
X-Robots-Tag:noindex
X-PUBLISHED-TTL:PT1H
BEGIN:VTIMEZONE
TZID:America/Edmonton
BEGIN:DAYLIGHT
TZOFFSETFROM:-0700
TZOFFSETTO:-0600
TZNAME:MDT
DTSTART:20180311T090000
END:DAYLIGHT
BEGIN:STANDARD
TZOFFSETFROM:-0600
TZOFFSETTO:-0700
TZNAME:MST
DTSTART:20181104T080000
END:STANDARD
BEGIN:DAYLIGHT
TZOFFSETFROM:-0700
TZOFFSETTO:-0600
TZNAME:MDT
DTSTART:20190310T090000
END:DAYLIGHT
BEGIN:STANDARD
TZOFFSETFROM:-0600
TZOFFSETTO:-0700
TZNAME:MST
DTSTART:20191103T080000
END:STANDARD
BEGIN:DAYLIGHT
TZOFFSETFROM:-0700
TZOFFSETTO:-0600
TZNAME:MDT
DTSTART:20200308T090000
END:DAYLIGHT
BEGIN:STANDARD
TZOFFSETFROM:-0600
TZOFFSETTO:-0700
TZNAME:MST
DTSTART:20201101T080000
END:STANDARD
END:VTIMEZONE
BEGIN:VEVENT
DTSTART;TZID=America/Edmonton:20191221T100000
DTEND;TZID=America/Edmonton:20191221T111500
DTSTAMP:20260425T112336
CREATED:20191125T014241Z
LAST-MODIFIED:20191125T014241Z
UID:1574-1576922400-1576926900@padmehum.ca
SUMMARY:Gentle Hatha Flow
DESCRIPTION:
URL:https://padmehum.ca/event/gentle-hatha-flow-51/
END:VEVENT
BEGIN:VEVENT
DTSTART;TZID=America/Edmonton:20191218T170000
DTEND;TZID=America/Edmonton:20191218T180000
DTSTAMP:20260425T112336
CREATED:20191125T014602Z
LAST-MODIFIED:20191125T014602Z
UID:1580-1576688400-1576692000@padmehum.ca
SUMMARY:Gentle Hatha
DESCRIPTION:
URL:https://padmehum.ca/event/gentle-hatha-123/
LOCATION:Private Class
CATEGORIES:Gentle Hatha
END:VEVENT
BEGIN:VEVENT
DTSTART;TZID=America/Edmonton:20191217T183000
DTEND;TZID=America/Edmonton:20191217T194500
DTSTAMP:20260425T112336
CREATED:20191125T014131Z
LAST-MODIFIED:20191125T014131Z
UID:1572-1576607400-1576611900@padmehum.ca
SUMMARY:Yin
DESCRIPTION:
URL:https://padmehum.ca/event/yin-93/
CATEGORIES:Yin
END:VEVENT
BEGIN:VEVENT
DTSTART;TZID=America/Edmonton:20191216T173000
DTEND;TZID=America/Edmonton:20191216T183000
DTSTAMP:20260425T112336
CREATED:20191125T014015Z
LAST-MODIFIED:20191125T014015Z
UID:1570-1576517400-1576521000@padmehum.ca
SUMMARY:Gentle Hatha
DESCRIPTION:
URL:https://padmehum.ca/event/gentle-hatha-120/
CATEGORIES:Gentle Hatha
END:VEVENT
BEGIN:VEVENT
DTSTART;TZID=America/Edmonton:20191211T170000
DTEND;TZID=America/Edmonton:20191211T180000
DTSTAMP:20260425T112336
CREATED:20191125T014506Z
LAST-MODIFIED:20191125T014506Z
UID:1578-1576083600-1576087200@padmehum.ca
SUMMARY:Gentle Hatha
DESCRIPTION:
URL:https://padmehum.ca/event/gentle-hatha-122/
LOCATION:Private Class
CATEGORIES:Gentle Hatha
END:VEVENT
BEGIN:VEVENT
DTSTART;TZID=America/Edmonton:20191210T183000
DTEND;TZID=America/Edmonton:20191210T194500
DTSTAMP:20260425T112336
CREATED:20191125T013916Z
LAST-MODIFIED:20191125T013916Z
UID:1568-1576002600-1576007100@padmehum.ca
SUMMARY:Yin
DESCRIPTION:
URL:https://padmehum.ca/event/yin-92/
CATEGORIES:Yin
END:VEVENT
BEGIN:VEVENT
DTSTART;TZID=America/Edmonton:20191209T173000
DTEND;TZID=America/Edmonton:20191209T183000
DTSTAMP:20260425T112336
CREATED:20191125T013827Z
LAST-MODIFIED:20191125T013827Z
UID:1566-1575912600-1575916200@padmehum.ca
SUMMARY:Gentle Hatha
DESCRIPTION:
URL:https://padmehum.ca/event/gentle-hatha-119/
CATEGORIES:Gentle Hatha
END:VEVENT
BEGIN:VEVENT
DTSTART;TZID=America/Edmonton:20191207T100000
DTEND;TZID=America/Edmonton:20191207T111500
DTSTAMP:20260425T112336
CREATED:20191125T013720Z
LAST-MODIFIED:20191125T013720Z
UID:1564-1575712800-1575717300@padmehum.ca
SUMMARY:Gentle Hatha Flow
DESCRIPTION:
URL:https://padmehum.ca/event/gentle-hatha-flow-46/
END:VEVENT
BEGIN:VEVENT
DTSTART;TZID=America/Edmonton:20191205T160000
DTEND;TZID=America/Edmonton:20191205T170000
DTSTAMP:20260425T112336
CREATED:20191125T014422Z
LAST-MODIFIED:20191125T014422Z
UID:1576-1575561600-1575565200@padmehum.ca
SUMMARY:Gentle Hatha
DESCRIPTION:
URL:https://padmehum.ca/event/gentle-hatha-121/
CATEGORIES:Gentle Hatha
END:VEVENT
BEGIN:VEVENT
DTSTART;TZID=America/Edmonton:20191204T170000
DTEND;TZID=America/Edmonton:20191204T180000
DTSTAMP:20260425T112336
CREATED:20191125T013536Z
LAST-MODIFIED:20191125T013536Z
UID:1562-1575478800-1575482400@padmehum.ca
SUMMARY:Gentle Hatha
DESCRIPTION:
URL:https://padmehum.ca/event/gentle-hatha-118/
LOCATION:Sculpt Fit\, 116 1 Hawthorn Gate\, Spruce Grove\, Alberta\, T7X 0A6\, Canada
CATEGORIES:Gentle Hatha
END:VEVENT
BEGIN:VEVENT
DTSTART;TZID=America/Edmonton:20191203T183000
DTEND;TZID=America/Edmonton:20191203T194500
DTSTAMP:20260425T112336
CREATED:20191125T013354Z
LAST-MODIFIED:20191125T013454Z
UID:1560-1575397800-1575402300@padmehum.ca
SUMMARY:Yin
DESCRIPTION:
URL:https://padmehum.ca/event/yin-91/
CATEGORIES:Yin
END:VEVENT
BEGIN:VEVENT
DTSTART;TZID=America/Edmonton:20191202T173000
DTEND;TZID=America/Edmonton:20191202T183000
DTSTAMP:20260425T112336
CREATED:20191125T013122Z
LAST-MODIFIED:20191125T013122Z
UID:1558-1575307800-1575311400@padmehum.ca
SUMMARY:Gentle Hatha
DESCRIPTION:
URL:https://padmehum.ca/event/gentle-hatha-117/
CATEGORIES:Gentle Hatha
END:VEVENT
BEGIN:VEVENT
DTSTART;TZID=America/Edmonton:20191130T100000
DTEND;TZID=America/Edmonton:20191130T111500
DTSTAMP:20260425T112336
CREATED:20191014T213758Z
LAST-MODIFIED:20191014T213758Z
UID:1549-1575108000-1575112500@padmehum.ca
SUMMARY:Gentle Hatha Flow
DESCRIPTION:
URL:https://padmehum.ca/event/gentle-hatha-flow-50/
END:VEVENT
BEGIN:VEVENT
DTSTART;TZID=America/Edmonton:20191128T190000
DTEND;TZID=America/Edmonton:20191128T201500
DTSTAMP:20260425T112336
CREATED:20191014T213708Z
LAST-MODIFIED:20191022T040541Z
UID:1547-1574967600-1574972100@padmehum.ca
SUMMARY:Yin with Guided Meditation
DESCRIPTION:
URL:https://padmehum.ca/event/yin-with-guided-meditation-33/
LOCATION:Vita Sana Naturopathic Wellness Clinic\, Unit 110 - 5 Spruce Village Way\, Spruce Grove\, Alberta\, T7X 0J6\, Canada
CATEGORIES:Yin with Guided Meditation
END:VEVENT
BEGIN:VEVENT
DTSTART;TZID=America/Edmonton:20191128T160000
DTEND;TZID=America/Edmonton:20191128T170000
DTSTAMP:20260425T112336
CREATED:20191014T213614Z
LAST-MODIFIED:20191014T213614Z
UID:1545-1574956800-1574960400@padmehum.ca
SUMMARY:Gentle Hatha
DESCRIPTION:
URL:https://padmehum.ca/event/gentle-hatha-116/
LOCATION:Private Class
CATEGORIES:Gentle Hatha
END:VEVENT
BEGIN:VEVENT
DTSTART;TZID=America/Edmonton:20191127T153000
DTEND;TZID=America/Edmonton:20191127T161500
DTSTAMP:20260425T112336
CREATED:20191014T213534Z
LAST-MODIFIED:20191014T213534Z
UID:1543-1574868600-1574871300@padmehum.ca
SUMMARY:Kids Yoga
DESCRIPTION:
URL:https://padmehum.ca/event/kids-yoga-14/
LOCATION:Private Class
CATEGORIES:Kids Yoga
END:VEVENT
BEGIN:VEVENT
DTSTART;TZID=America/Edmonton:20191126T183000
DTEND;TZID=America/Edmonton:20191126T194500
DTSTAMP:20260425T112336
CREATED:20191014T213449Z
LAST-MODIFIED:20191014T213449Z
UID:1541-1574793000-1574797500@padmehum.ca
SUMMARY:Candlelight Yin
DESCRIPTION:
URL:https://padmehum.ca/event/candlelight-yin-3/
CATEGORIES:Yin
END:VEVENT
BEGIN:VEVENT
DTSTART;TZID=America/Edmonton:20191125T173000
DTEND;TZID=America/Edmonton:20191125T183000
DTSTAMP:20260425T112336
CREATED:20191014T213342Z
LAST-MODIFIED:20191014T213342Z
UID:1539-1574703000-1574706600@padmehum.ca
SUMMARY:Gentle Hatha
DESCRIPTION:
URL:https://padmehum.ca/event/gentle-hatha-115/
CATEGORIES:Gentle Hatha
END:VEVENT
BEGIN:VEVENT
DTSTART;TZID=America/Edmonton:20191123T100000
DTEND;TZID=America/Edmonton:20191123T111500
DTSTAMP:20260425T112336
CREATED:20191014T213210Z
LAST-MODIFIED:20191014T213210Z
UID:1537-1574503200-1574507700@padmehum.ca
SUMMARY:Gentle Hatha Flow
DESCRIPTION:
URL:https://padmehum.ca/event/gentle-hatha-flow-49/
END:VEVENT
BEGIN:VEVENT
DTSTART;TZID=America/Edmonton:20191121T190000
DTEND;TZID=America/Edmonton:20191121T201500
DTSTAMP:20260425T112336
CREATED:20191014T213007Z
LAST-MODIFIED:20191022T040513Z
UID:1535-1574362800-1574367300@padmehum.ca
SUMMARY:Yin with Guided Meditation
DESCRIPTION:
URL:https://padmehum.ca/event/yin-with-guided-meditation-32/
LOCATION:Vita Sana Naturopathic Wellness Clinic\, Unit 110 - 5 Spruce Village Way\, Spruce Grove\, Alberta\, T7X 0J6\, Canada
CATEGORIES:Yin with Guided Meditation
END:VEVENT
BEGIN:VEVENT
DTSTART;TZID=America/Edmonton:20191121T160000
DTEND;TZID=America/Edmonton:20191121T170000
DTSTAMP:20260425T112336
CREATED:20191014T212856Z
LAST-MODIFIED:20191014T212856Z
UID:1533-1574352000-1574355600@padmehum.ca
SUMMARY:Gentle Hatha
DESCRIPTION:
URL:https://padmehum.ca/event/gentle-hatha-114/
LOCATION:Private Class
CATEGORIES:Gentle Hatha
END:VEVENT
BEGIN:VEVENT
DTSTART;TZID=America/Edmonton:20191120T153000
DTEND;TZID=America/Edmonton:20191120T161500
DTSTAMP:20260425T112336
CREATED:20191014T212758Z
LAST-MODIFIED:20191014T212758Z
UID:1531-1574263800-1574266500@padmehum.ca
SUMMARY:Kids Yoga
DESCRIPTION:
URL:https://padmehum.ca/event/kids-yoga-13/
LOCATION:Private Class
CATEGORIES:Kids Yoga
END:VEVENT
BEGIN:VEVENT
DTSTART;TZID=America/Edmonton:20191118T173000
DTEND;TZID=America/Edmonton:20191118T183000
DTSTAMP:20260425T112336
CREATED:20191014T211953Z
LAST-MODIFIED:20191014T211953Z
UID:1527-1574098200-1574101800@padmehum.ca
SUMMARY:Gentle Hatha
DESCRIPTION:
URL:https://padmehum.ca/event/gentle-hatha-113/
CATEGORIES:Gentle Hatha
END:VEVENT
BEGIN:VEVENT
DTSTART;TZID=America/Edmonton:20191116T100000
DTEND;TZID=America/Edmonton:20191116T111500
DTSTAMP:20260425T112336
CREATED:20191014T211851Z
LAST-MODIFIED:20191014T211851Z
UID:1525-1573898400-1573902900@padmehum.ca
SUMMARY:Gentle Hatha Flow
DESCRIPTION:
URL:https://padmehum.ca/event/gentle-hatha-flow-48/
END:VEVENT
BEGIN:VEVENT
DTSTART;TZID=America/Edmonton:20191114T190000
DTEND;TZID=America/Edmonton:20191114T201500
DTSTAMP:20260425T112336
CREATED:20191014T211748Z
LAST-MODIFIED:20191022T040401Z
UID:1523-1573758000-1573762500@padmehum.ca
SUMMARY:Yin with Guided Meditation
DESCRIPTION:
URL:https://padmehum.ca/event/yin-with-guided-meditation-31/
LOCATION:Vita Sana Naturopathic Wellness Clinic\, Unit 110 - 5 Spruce Village Way\, Spruce Grove\, Alberta\, T7X 0J6\, Canada
CATEGORIES:Yin with Guided Meditation
END:VEVENT
BEGIN:VEVENT
DTSTART;TZID=America/Edmonton:20191114T160000
DTEND;TZID=America/Edmonton:20191114T170000
DTSTAMP:20260425T112336
CREATED:20191014T211639Z
LAST-MODIFIED:20191014T211639Z
UID:1521-1573747200-1573750800@padmehum.ca
SUMMARY:Gentle Hatha
DESCRIPTION:
URL:https://padmehum.ca/event/gentle-hatha-112/
LOCATION:Private Class
CATEGORIES:Gentle Hatha
END:VEVENT
BEGIN:VEVENT
DTSTART;TZID=America/Edmonton:20191114T120000
DTEND;TZID=America/Edmonton:20191114T130000
DTSTAMP:20260425T112336
CREATED:20191014T211602Z
LAST-MODIFIED:20191014T211602Z
UID:1519-1573732800-1573736400@padmehum.ca
SUMMARY:Gentle Hatha
DESCRIPTION:
URL:https://padmehum.ca/event/gentle-hatha-111/
LOCATION:Private Class
CATEGORIES:Gentle Hatha
END:VEVENT
BEGIN:VEVENT
DTSTART;TZID=America/Edmonton:20191113T170000
DTEND;TZID=America/Edmonton:20191113T180000
DTSTAMP:20260425T112336
CREATED:20191014T211506Z
LAST-MODIFIED:20191014T211506Z
UID:1517-1573664400-1573668000@padmehum.ca
SUMMARY:Gentle Hatha
DESCRIPTION:
URL:https://padmehum.ca/event/gentle-hatha-110/
LOCATION:Private Class
CATEGORIES:Gentle Hatha
END:VEVENT
BEGIN:VEVENT
DTSTART;TZID=America/Edmonton:20191113T153000
DTEND;TZID=America/Edmonton:20191113T161500
DTSTAMP:20260425T112336
CREATED:20191014T211411Z
LAST-MODIFIED:20191014T211411Z
UID:1515-1573659000-1573661700@padmehum.ca
SUMMARY:Kids Yoga
DESCRIPTION:
URL:https://padmehum.ca/event/kids-yoga-12/
LOCATION:Private Class
CATEGORIES:Kids Yoga
END:VEVENT
BEGIN:VEVENT
DTSTART;TZID=America/Edmonton:20191113T130000
DTEND;TZID=America/Edmonton:20191113T140000
DTSTAMP:20260425T112336
CREATED:20191014T211318Z
LAST-MODIFIED:20191014T211318Z
UID:1513-1573650000-1573653600@padmehum.ca
SUMMARY:Gentle Hatha
DESCRIPTION:
URL:https://padmehum.ca/event/gentle-hatha-109/
LOCATION:Keephills Community Hall\, RR #1\, Duffield\, AB\, T0E 0N0\, Canada
CATEGORIES:Gentle Hatha
END:VEVENT
END:VCALENDAR