BEGIN:VCALENDAR
VERSION:2.0
PRODID:-//Padme Hum Yoga - ECPv6.15.20//NONSGML v1.0//EN
CALSCALE:GREGORIAN
METHOD:PUBLISH
X-WR-CALNAME:Padme Hum Yoga
X-ORIGINAL-URL:https://padmehum.ca
X-WR-CALDESC:Events for Padme Hum Yoga
REFRESH-INTERVAL;VALUE=DURATION:PT1H
X-Robots-Tag:noindex
X-PUBLISHED-TTL:PT1H
BEGIN:VTIMEZONE
TZID:America/Edmonton
BEGIN:DAYLIGHT
TZOFFSETFROM:-0700
TZOFFSETTO:-0600
TZNAME:MDT
DTSTART:20180311T090000
END:DAYLIGHT
BEGIN:STANDARD
TZOFFSETFROM:-0600
TZOFFSETTO:-0700
TZNAME:MST
DTSTART:20181104T080000
END:STANDARD
BEGIN:DAYLIGHT
TZOFFSETFROM:-0700
TZOFFSETTO:-0600
TZNAME:MDT
DTSTART:20190310T090000
END:DAYLIGHT
BEGIN:STANDARD
TZOFFSETFROM:-0600
TZOFFSETTO:-0700
TZNAME:MST
DTSTART:20191103T080000
END:STANDARD
BEGIN:DAYLIGHT
TZOFFSETFROM:-0700
TZOFFSETTO:-0600
TZNAME:MDT
DTSTART:20200308T090000
END:DAYLIGHT
BEGIN:STANDARD
TZOFFSETFROM:-0600
TZOFFSETTO:-0700
TZNAME:MST
DTSTART:20201101T080000
END:STANDARD
END:VTIMEZONE
BEGIN:VEVENT
DTSTART;TZID=America/Edmonton:20191106T130000
DTEND;TZID=America/Edmonton:20191106T140000
DTSTAMP:20260425T162313
CREATED:20191014T210344Z
LAST-MODIFIED:20191014T210344Z
UID:1497-1573045200-1573048800@padmehum.ca
SUMMARY:Gentle Hatha
DESCRIPTION:
URL:https://padmehum.ca/event/gentle-hatha-104/
LOCATION:Keephills Community Hall\, RR #1\, Duffield\, AB\, T0E 0N0\, Canada
CATEGORIES:Gentle Hatha
END:VEVENT
BEGIN:VEVENT
DTSTART;TZID=America/Edmonton:20191104T173000
DTEND;TZID=America/Edmonton:20191104T183000
DTSTAMP:20260425T162313
CREATED:20191014T205829Z
LAST-MODIFIED:20191014T205829Z
UID:1493-1572888600-1572892200@padmehum.ca
SUMMARY:Gentle Hatha
DESCRIPTION:
URL:https://padmehum.ca/event/gentle-hatha-103/
CATEGORIES:Gentle Hatha
END:VEVENT
BEGIN:VEVENT
DTSTART;TZID=America/Edmonton:20191102T100000
DTEND;TZID=America/Edmonton:20191102T111500
DTSTAMP:20260425T162313
CREATED:20191014T205714Z
LAST-MODIFIED:20191014T205714Z
UID:1491-1572688800-1572693300@padmehum.ca
SUMMARY:Gentle Hatha Flow
DESCRIPTION:
URL:https://padmehum.ca/event/gentle-hatha-flow-47/
END:VEVENT
BEGIN:VEVENT
DTSTART;TZID=America/Edmonton:20191031T160000
DTEND;TZID=America/Edmonton:20191031T170000
DTSTAMP:20260425T162313
CREATED:20190923T002548Z
LAST-MODIFIED:20190923T002548Z
UID:1479-1572537600-1572541200@padmehum.ca
SUMMARY:Gentle Hatha
DESCRIPTION:
URL:https://padmehum.ca/event/gentle-hatha-101/
LOCATION:Private Class
CATEGORIES:Gentle Hatha
END:VEVENT
BEGIN:VEVENT
DTSTART;TZID=America/Edmonton:20191030T170000
DTEND;TZID=America/Edmonton:20191030T180000
DTSTAMP:20260425T162313
CREATED:20190923T002516Z
LAST-MODIFIED:20190923T002516Z
UID:1477-1572454800-1572458400@padmehum.ca
SUMMARY:Gentle Hatha
DESCRIPTION:
URL:https://padmehum.ca/event/gentle-hatha-100/
LOCATION:Private Class
CATEGORIES:Gentle Hatha
END:VEVENT
BEGIN:VEVENT
DTSTART;TZID=America/Edmonton:20191030T130000
DTEND;TZID=America/Edmonton:20191030T140000
DTSTAMP:20260425T162313
CREATED:20190923T002447Z
LAST-MODIFIED:20190923T002447Z
UID:1475-1572440400-1572444000@padmehum.ca
SUMMARY:Gentle Hatha
DESCRIPTION:
URL:https://padmehum.ca/event/gentle-hatha-99/
LOCATION:Keephills Community Hall\, RR #1\, Duffield\, AB\, T0E 0N0\, Canada
CATEGORIES:Gentle Hatha
END:VEVENT
BEGIN:VEVENT
DTSTART;TZID=America/Edmonton:20191029T200000
DTEND;TZID=America/Edmonton:20191029T210000
DTSTAMP:20260425T162313
CREATED:20190923T002359Z
LAST-MODIFIED:20190923T002359Z
UID:1473-1572379200-1572382800@padmehum.ca
SUMMARY:Meditation with Journaling Series
DESCRIPTION:
URL:https://padmehum.ca/event/meditation-with-journaling-series-4/
CATEGORIES:Meditation & Journaling
END:VEVENT
BEGIN:VEVENT
DTSTART;TZID=America/Edmonton:20191029T183000
DTEND;TZID=America/Edmonton:20191029T194500
DTSTAMP:20260425T162313
CREATED:20190923T002324Z
LAST-MODIFIED:20190923T002324Z
UID:1471-1572373800-1572378300@padmehum.ca
SUMMARY:Yin
DESCRIPTION:
URL:https://padmehum.ca/event/yin-89/
CATEGORIES:Yin
END:VEVENT
BEGIN:VEVENT
DTSTART;TZID=America/Edmonton:20191028T173000
DTEND;TZID=America/Edmonton:20191028T183000
DTSTAMP:20260425T162313
CREATED:20190923T002247Z
LAST-MODIFIED:20190923T002247Z
UID:1469-1572283800-1572287400@padmehum.ca
SUMMARY:Gentle Hatha
DESCRIPTION:
URL:https://padmehum.ca/event/gentle-hatha-98/
CATEGORIES:Gentle Hatha
END:VEVENT
BEGIN:VEVENT
DTSTART;TZID=America/Edmonton:20191026T100000
DTEND;TZID=America/Edmonton:20191026T111500
DTSTAMP:20260425T162313
CREATED:20190923T002206Z
LAST-MODIFIED:20190923T002647Z
UID:1467-1572084000-1572088500@padmehum.ca
SUMMARY:Gentle Hatha Flow
DESCRIPTION:
URL:https://padmehum.ca/event/gentle-hatha-97/
CATEGORIES:Hatha Flow
END:VEVENT
BEGIN:VEVENT
DTSTART;TZID=America/Edmonton:20191024T190000
DTEND;TZID=America/Edmonton:20191024T201500
DTSTAMP:20260425T162313
CREATED:20190923T002123Z
LAST-MODIFIED:20190923T002123Z
UID:1465-1571943600-1571948100@padmehum.ca
SUMMARY:Yin with Guided Meditation
DESCRIPTION:
URL:https://padmehum.ca/event/yin-with-guided-meditation-28/
LOCATION:Vita Sana Naturopathic Wellness Clinic\, Unit 110 - 5 Spruce Village Way\, Spruce Grove\, Alberta\, T7X 0J6\, Canada
CATEGORIES:Yin with Guided Meditation
END:VEVENT
BEGIN:VEVENT
DTSTART;TZID=America/Edmonton:20191024T160000
DTEND;TZID=America/Edmonton:20191024T170000
DTSTAMP:20260425T162313
CREATED:20190923T002039Z
LAST-MODIFIED:20190923T002039Z
UID:1463-1571932800-1571936400@padmehum.ca
SUMMARY:Gentle Hatha
DESCRIPTION:
URL:https://padmehum.ca/event/gentle-hatha-96/
LOCATION:Private Class
CATEGORIES:Gentle Hatha
END:VEVENT
BEGIN:VEVENT
DTSTART;TZID=America/Edmonton:20191024T120000
DTEND;TZID=America/Edmonton:20191024T130000
DTSTAMP:20260425T162313
CREATED:20190923T002011Z
LAST-MODIFIED:20190923T002011Z
UID:1461-1571918400-1571922000@padmehum.ca
SUMMARY:Gentle Hatha
DESCRIPTION:
URL:https://padmehum.ca/event/gentle-hatha-95/
LOCATION:Private Class
CATEGORIES:Gentle Hatha
END:VEVENT
BEGIN:VEVENT
DTSTART;TZID=America/Edmonton:20191023T170000
DTEND;TZID=America/Edmonton:20191023T180000
DTSTAMP:20260425T162313
CREATED:20190923T001920Z
LAST-MODIFIED:20190923T001920Z
UID:1459-1571850000-1571853600@padmehum.ca
SUMMARY:Gentle Hatha
DESCRIPTION:
URL:https://padmehum.ca/event/gentle-hatha-94/
LOCATION:Private Class
CATEGORIES:Gentle Hatha
END:VEVENT
BEGIN:VEVENT
DTSTART;TZID=America/Edmonton:20191023T130000
DTEND;TZID=America/Edmonton:20191023T140000
DTSTAMP:20260425T162313
CREATED:20190923T001849Z
LAST-MODIFIED:20190923T001849Z
UID:1457-1571835600-1571839200@padmehum.ca
SUMMARY:Gentle Hatha
DESCRIPTION:
URL:https://padmehum.ca/event/gentle-hatha-93/
LOCATION:Keephills Community Hall\, RR #1\, Duffield\, AB\, T0E 0N0\, Canada
CATEGORIES:Gentle Hatha
END:VEVENT
BEGIN:VEVENT
DTSTART;TZID=America/Edmonton:20191022T200000
DTEND;TZID=America/Edmonton:20191022T210000
DTSTAMP:20260425T162313
CREATED:20190923T001743Z
LAST-MODIFIED:20190923T001743Z
UID:1455-1571774400-1571778000@padmehum.ca
SUMMARY:Meditation with Journaling Series
DESCRIPTION:
URL:https://padmehum.ca/event/meditation-with-journaling-series-3/
CATEGORIES:Meditation & Journaling
END:VEVENT
BEGIN:VEVENT
DTSTART;TZID=America/Edmonton:20191022T183000
DTEND;TZID=America/Edmonton:20191022T194500
DTSTAMP:20260425T162313
CREATED:20190923T001709Z
LAST-MODIFIED:20190923T001709Z
UID:1453-1571769000-1571773500@padmehum.ca
SUMMARY:Yin
DESCRIPTION:
URL:https://padmehum.ca/event/yin-88/
CATEGORIES:Yin
END:VEVENT
BEGIN:VEVENT
DTSTART;TZID=America/Edmonton:20191021T173000
DTEND;TZID=America/Edmonton:20191021T183000
DTSTAMP:20260425T162313
CREATED:20190923T002813Z
LAST-MODIFIED:20190923T002813Z
UID:1482-1571679000-1571682600@padmehum.ca
SUMMARY:Gentle Hatha
DESCRIPTION:
URL:https://padmehum.ca/event/gentle-hatha-102/
CATEGORIES:Gentle Hatha
END:VEVENT
BEGIN:VEVENT
DTSTART;TZID=America/Edmonton:20191017T190000
DTEND;TZID=America/Edmonton:20191017T201500
DTSTAMP:20260425T162313
CREATED:20190923T001113Z
LAST-MODIFIED:20190923T001113Z
UID:1447-1571338800-1571343300@padmehum.ca
SUMMARY:Yin with Guided Meditation
DESCRIPTION:
URL:https://padmehum.ca/event/yin-with-guided-meditation-27/
LOCATION:Vita Sana Naturopathic Wellness Clinic\, Unit 110 - 5 Spruce Village Way\, Spruce Grove\, Alberta\, T7X 0J6\, Canada
CATEGORIES:Yin with Guided Meditation
END:VEVENT
BEGIN:VEVENT
DTSTART;TZID=America/Edmonton:20191017T160000
DTEND;TZID=America/Edmonton:20191017T170000
DTSTAMP:20260425T162313
CREATED:20190923T001022Z
LAST-MODIFIED:20190923T001022Z
UID:1445-1571328000-1571331600@padmehum.ca
SUMMARY:Gentle Hatha
DESCRIPTION:
URL:https://padmehum.ca/event/gentle-hatha-91/
LOCATION:Private Class
CATEGORIES:Gentle Hatha
END:VEVENT
BEGIN:VEVENT
DTSTART;TZID=America/Edmonton:20191017T120000
DTEND;TZID=America/Edmonton:20191017T130000
DTSTAMP:20260425T162313
CREATED:20190923T000949Z
LAST-MODIFIED:20190923T000949Z
UID:1443-1571313600-1571317200@padmehum.ca
SUMMARY:Gentle Hatha
DESCRIPTION:
URL:https://padmehum.ca/event/gentle-hatha-90/
LOCATION:Private Class
CATEGORIES:Gentle Hatha
END:VEVENT
BEGIN:VEVENT
DTSTART;TZID=America/Edmonton:20191016T170000
DTEND;TZID=America/Edmonton:20191016T180000
DTSTAMP:20260425T162313
CREATED:20190923T000908Z
LAST-MODIFIED:20190923T000908Z
UID:1441-1571245200-1571248800@padmehum.ca
SUMMARY:Gentle Hatha
DESCRIPTION:
URL:https://padmehum.ca/event/gentle-hatha-89/
LOCATION:Private Class
CATEGORIES:Gentle Hatha
END:VEVENT
BEGIN:VEVENT
DTSTART;TZID=America/Edmonton:20191016T130000
DTEND;TZID=America/Edmonton:20191016T140000
DTSTAMP:20260425T162313
CREATED:20190923T000719Z
LAST-MODIFIED:20190923T000719Z
UID:1439-1571230800-1571234400@padmehum.ca
SUMMARY:Gentle Hatha
DESCRIPTION:
URL:https://padmehum.ca/event/gentle-hatha-88/
LOCATION:Keephills Community Hall\, RR #1\, Duffield\, AB\, T0E 0N0\, Canada
CATEGORIES:Gentle Hatha
END:VEVENT
BEGIN:VEVENT
DTSTART;TZID=America/Edmonton:20191015T200000
DTEND;TZID=America/Edmonton:20191015T210000
DTSTAMP:20260425T162313
CREATED:20190923T000652Z
LAST-MODIFIED:20190923T000652Z
UID:1437-1571169600-1571173200@padmehum.ca
SUMMARY:Meditation with Journaling Series
DESCRIPTION:
URL:https://padmehum.ca/event/meditation-with-journaling-series-2/
CATEGORIES:Meditation & Journaling
END:VEVENT
BEGIN:VEVENT
DTSTART;TZID=America/Edmonton:20191015T183000
DTEND;TZID=America/Edmonton:20191015T204500
DTSTAMP:20260425T162313
CREATED:20190923T000521Z
LAST-MODIFIED:20190923T000521Z
UID:1435-1571164200-1571172300@padmehum.ca
SUMMARY:Yin
DESCRIPTION:
URL:https://padmehum.ca/event/yin-87/
CATEGORIES:Yin
END:VEVENT
BEGIN:VEVENT
DTSTART;TZID=America/Edmonton:20191014T080000
DTEND;TZID=America/Edmonton:20191014T170000
DTSTAMP:20260425T162313
CREATED:20191014T210627Z
LAST-MODIFIED:20191014T210627Z
UID:1505-1571040000-1571072400@padmehum.ca
SUMMARY:Gentle Hatha
DESCRIPTION:
URL:https://padmehum.ca/event/gentle-hatha-107/
LOCATION:Private Class
CATEGORIES:Gentle Hatha
END:VEVENT
BEGIN:VEVENT
DTSTART;TZID=America/Edmonton:20191010T190000
DTEND;TZID=America/Edmonton:20191010T201500
DTSTAMP:20260425T162313
CREATED:20190922T235654Z
LAST-MODIFIED:20190923T002916Z
UID:1433-1570734000-1570738500@padmehum.ca
SUMMARY:Yin with Guided Meditation
DESCRIPTION:
URL:https://padmehum.ca/event/yin-with-guided-meditation-26/
LOCATION:Vita Sana Naturopathic Wellness Clinic\, Unit 110 - 5 Spruce Village Way\, Spruce Grove\, Alberta\, T7X 0J6\, Canada
CATEGORIES:Yin with Guided Meditation
END:VEVENT
BEGIN:VEVENT
DTSTART;TZID=America/Edmonton:20191010T160000
DTEND;TZID=America/Edmonton:20191010T170000
DTSTAMP:20260425T162313
CREATED:20190922T235558Z
LAST-MODIFIED:20190922T235558Z
UID:1431-1570723200-1570726800@padmehum.ca
SUMMARY:Gentle Hatha
DESCRIPTION:
URL:https://padmehum.ca/event/gentle-hatha-87/
LOCATION:Private Class
CATEGORIES:Gentle Hatha
END:VEVENT
BEGIN:VEVENT
DTSTART;TZID=America/Edmonton:20191010T120000
DTEND;TZID=America/Edmonton:20191010T130000
DTSTAMP:20260425T162313
CREATED:20190922T235527Z
LAST-MODIFIED:20190922T235527Z
UID:1429-1570708800-1570712400@padmehum.ca
SUMMARY:Gentle Hatha
DESCRIPTION:
URL:https://padmehum.ca/event/gentle-hatha-86/
LOCATION:Private Class
CATEGORIES:Gentle Hatha
END:VEVENT
BEGIN:VEVENT
DTSTART;TZID=America/Edmonton:20191009T170000
DTEND;TZID=America/Edmonton:20191009T180000
DTSTAMP:20260425T162313
CREATED:20190922T235450Z
LAST-MODIFIED:20190922T235450Z
UID:1427-1570640400-1570644000@padmehum.ca
SUMMARY:Gentle Hatha
DESCRIPTION:
URL:https://padmehum.ca/event/gentle-hatha-85/
LOCATION:Private Class
CATEGORIES:Gentle Hatha
END:VEVENT
END:VCALENDAR