BEGIN:VCALENDAR
VERSION:2.0
PRODID:-//Padme Hum Yoga - ECPv6.15.20//NONSGML v1.0//EN
CALSCALE:GREGORIAN
METHOD:PUBLISH
X-WR-CALNAME:Padme Hum Yoga
X-ORIGINAL-URL:https://padmehum.ca
X-WR-CALDESC:Events for Padme Hum Yoga
REFRESH-INTERVAL;VALUE=DURATION:PT1H
X-Robots-Tag:noindex
X-PUBLISHED-TTL:PT1H
BEGIN:VTIMEZONE
TZID:America/Edmonton
BEGIN:DAYLIGHT
TZOFFSETFROM:-0700
TZOFFSETTO:-0600
TZNAME:MDT
DTSTART:20180311T090000
END:DAYLIGHT
BEGIN:STANDARD
TZOFFSETFROM:-0600
TZOFFSETTO:-0700
TZNAME:MST
DTSTART:20181104T080000
END:STANDARD
BEGIN:DAYLIGHT
TZOFFSETFROM:-0700
TZOFFSETTO:-0600
TZNAME:MDT
DTSTART:20190310T090000
END:DAYLIGHT
BEGIN:STANDARD
TZOFFSETFROM:-0600
TZOFFSETTO:-0700
TZNAME:MST
DTSTART:20191103T080000
END:STANDARD
BEGIN:DAYLIGHT
TZOFFSETFROM:-0700
TZOFFSETTO:-0600
TZNAME:MDT
DTSTART:20200308T090000
END:DAYLIGHT
BEGIN:STANDARD
TZOFFSETFROM:-0600
TZOFFSETTO:-0700
TZNAME:MST
DTSTART:20201101T080000
END:STANDARD
END:VTIMEZONE
BEGIN:VEVENT
DTSTART;TZID=America/Edmonton:20191009T130000
DTEND;TZID=America/Edmonton:20191009T140000
DTSTAMP:20260425T201423
CREATED:20190922T235400Z
LAST-MODIFIED:20190922T235400Z
UID:1425-1570626000-1570629600@padmehum.ca
SUMMARY:Gentle Hatha
DESCRIPTION:
URL:https://padmehum.ca/event/gentle-hatha-84/
LOCATION:Keephills Community Hall\, RR #1\, Duffield\, AB\, T0E 0N0\, Canada
END:VEVENT
BEGIN:VEVENT
DTSTART;TZID=America/Edmonton:20191008T200000
DTEND;TZID=America/Edmonton:20191008T210000
DTSTAMP:20260425T201423
CREATED:20190922T235327Z
LAST-MODIFIED:20190922T235327Z
UID:1423-1570564800-1570568400@padmehum.ca
SUMMARY:Meditation with Journaling Series
DESCRIPTION:
URL:https://padmehum.ca/event/meditation-with-journaling-series/
CATEGORIES:Meditation & Journaling
END:VEVENT
BEGIN:VEVENT
DTSTART;TZID=America/Edmonton:20191008T183000
DTEND;TZID=America/Edmonton:20191008T194500
DTSTAMP:20260425T201423
CREATED:20190922T235214Z
LAST-MODIFIED:20190922T235214Z
UID:1421-1570559400-1570563900@padmehum.ca
SUMMARY:Yin
DESCRIPTION:
URL:https://padmehum.ca/event/yin-86/
CATEGORIES:Yin
END:VEVENT
BEGIN:VEVENT
DTSTART;TZID=America/Edmonton:20191007T173000
DTEND;TZID=America/Edmonton:20191007T183000
DTSTAMP:20260425T201423
CREATED:20190922T235110Z
LAST-MODIFIED:20190922T235110Z
UID:1419-1570469400-1570473000@padmehum.ca
SUMMARY:Gentle Hatha
DESCRIPTION:
URL:https://padmehum.ca/event/gentle-hatha-83/
CATEGORIES:Gentle Hatha
END:VEVENT
BEGIN:VEVENT
DTSTART;TZID=America/Edmonton:20191005T100000
DTEND;TZID=America/Edmonton:20191005T111500
DTSTAMP:20260425T201423
CREATED:20190922T234936Z
LAST-MODIFIED:20190923T002959Z
UID:1417-1570269600-1570274100@padmehum.ca
SUMMARY:Gentle Hatha Flow
DESCRIPTION:
URL:https://padmehum.ca/event/gentle-hatha-flow-43/
END:VEVENT
BEGIN:VEVENT
DTSTART;TZID=America/Edmonton:20191003T190000
DTEND;TZID=America/Edmonton:20191003T201500
DTSTAMP:20260425T201423
CREATED:20190923T003117Z
LAST-MODIFIED:20190923T003117Z
UID:1484-1570129200-1570133700@padmehum.ca
SUMMARY:Yin with Guided Meditation
DESCRIPTION:
URL:https://padmehum.ca/event/yin-with-guided-meditation-29/
LOCATION:Vita Sana Naturopathic Wellness Clinic\, Unit 110 - 5 Spruce Village Way\, Spruce Grove\, Alberta\, T7X 0J6\, Canada
CATEGORIES:Yin with Guided Meditation
END:VEVENT
BEGIN:VEVENT
DTSTART;TZID=America/Edmonton:20191003T120000
DTEND;TZID=America/Edmonton:20191003T130000
DTSTAMP:20260425T201423
CREATED:20190921T202017Z
LAST-MODIFIED:20190921T202017Z
UID:1412-1570104000-1570107600@padmehum.ca
SUMMARY:Gentle Hatha
DESCRIPTION:
URL:https://padmehum.ca/event/gentle-hatha-81/
LOCATION:Private Class
CATEGORIES:Gentle Hatha
END:VEVENT
BEGIN:VEVENT
DTSTART;TZID=America/Edmonton:20191003T040000
DTEND;TZID=America/Edmonton:20191003T170000
DTSTAMP:20260425T201423
CREATED:20190921T202107Z
LAST-MODIFIED:20190921T202107Z
UID:1414-1570075200-1570122000@padmehum.ca
SUMMARY:Gentle Hatha
DESCRIPTION:
URL:https://padmehum.ca/event/gentle-hatha-82/
LOCATION:Private Class
CATEGORIES:Gentle Hatha
END:VEVENT
BEGIN:VEVENT
DTSTART;TZID=America/Edmonton:20191002T170000
DTEND;TZID=America/Edmonton:20191002T180000
DTSTAMP:20260425T201423
CREATED:20190921T201920Z
LAST-MODIFIED:20190921T201920Z
UID:1410-1570035600-1570039200@padmehum.ca
SUMMARY:Gentle Hatha
DESCRIPTION:
URL:https://padmehum.ca/event/gentle-hatha-80/
LOCATION:Private Class
CATEGORIES:Gentle Hatha
END:VEVENT
BEGIN:VEVENT
DTSTART;TZID=America/Edmonton:20191002T130000
DTEND;TZID=America/Edmonton:20191002T140000
DTSTAMP:20260425T201423
CREATED:20190921T201818Z
LAST-MODIFIED:20190921T201818Z
UID:1408-1570021200-1570024800@padmehum.ca
SUMMARY:Gentle Hatha
DESCRIPTION:
URL:https://padmehum.ca/event/gentle-hatha-79/
LOCATION:Keephills Community Hall\, RR #1\, Duffield\, AB\, T0E 0N0\, Canada
CATEGORIES:Gentle Hatha
END:VEVENT
BEGIN:VEVENT
DTSTART;TZID=America/Edmonton:20191001T183000
DTEND;TZID=America/Edmonton:20191001T194500
DTSTAMP:20260425T201423
CREATED:20190921T201721Z
LAST-MODIFIED:20190921T201721Z
UID:1406-1569954600-1569959100@padmehum.ca
SUMMARY:Candlelight Yin
DESCRIPTION:
URL:https://padmehum.ca/event/candlelight-yin/
CATEGORIES:Yin
END:VEVENT
BEGIN:VEVENT
DTSTART;TZID=America/Edmonton:20190930T173000
DTEND;TZID=America/Edmonton:20190930T183000
DTSTAMP:20260425T201423
CREATED:20190818T021237Z
LAST-MODIFIED:20190818T021237Z
UID:1363-1569864600-1569868200@padmehum.ca
SUMMARY:Gentle Hatha
DESCRIPTION:
URL:https://padmehum.ca/event/gentle-hatha-77/
CATEGORIES:Gentle Hatha
END:VEVENT
BEGIN:VEVENT
DTSTART;TZID=America/Edmonton:20190928T100000
DTEND;TZID=America/Edmonton:20190928T111500
DTSTAMP:20260425T201423
CREATED:20190818T021147Z
LAST-MODIFIED:20190818T021147Z
UID:1361-1569664800-1569669300@padmehum.ca
SUMMARY:Gentle Hatha Flow
DESCRIPTION:
URL:https://padmehum.ca/event/gentle-hatha-flow-45/
END:VEVENT
BEGIN:VEVENT
DTSTART;TZID=America/Edmonton:20190926T183000
DTEND;TZID=America/Edmonton:20190926T194500
DTSTAMP:20260425T201423
CREATED:20190818T020800Z
LAST-MODIFIED:20190828T164953Z
UID:1359-1569522600-1569527100@padmehum.ca
SUMMARY:*CLASS FULL*Yin with Guided Meditation
DESCRIPTION:**Sorry\, class is full. Thank you for your interest.
URL:https://padmehum.ca/event/yin-with-guided-meditation-25/
LOCATION:Vita Sana Naturopathic Wellness Clinic\, Unit 110 - 5 Spruce Village Way\, Spruce Grove\, Alberta\, T7X 0J6\, Canada
CATEGORIES:Yin with Guided Meditation
END:VEVENT
BEGIN:VEVENT
DTSTART;TZID=America/Edmonton:20190926T160000
DTEND;TZID=America/Edmonton:20190926T170000
DTSTAMP:20260425T201423
CREATED:20190818T020700Z
LAST-MODIFIED:20190818T020700Z
UID:1357-1569513600-1569517200@padmehum.ca
SUMMARY:Gentle Hatha
DESCRIPTION:
URL:https://padmehum.ca/event/gentle-hatha-76/
LOCATION:Private Class
CATEGORIES:Gentle Hatha
END:VEVENT
BEGIN:VEVENT
DTSTART;TZID=America/Edmonton:20190926T120000
DTEND;TZID=America/Edmonton:20190926T130000
DTSTAMP:20260425T201423
CREATED:20190818T020630Z
LAST-MODIFIED:20190818T020630Z
UID:1355-1569499200-1569502800@padmehum.ca
SUMMARY:Gentle Hatha
DESCRIPTION:
URL:https://padmehum.ca/event/gentle-hatha-75/
LOCATION:Private Class
CATEGORIES:Gentle Hatha
END:VEVENT
BEGIN:VEVENT
DTSTART;TZID=America/Edmonton:20190925T170000
DTEND;TZID=America/Edmonton:20190925T180000
DTSTAMP:20260425T201423
CREATED:20190818T020523Z
LAST-MODIFIED:20190818T020523Z
UID:1353-1569430800-1569434400@padmehum.ca
SUMMARY:Gentle Hatha
DESCRIPTION:
URL:https://padmehum.ca/event/gentle-hatha-74/
LOCATION:Private Class
CATEGORIES:Gentle Hatha
END:VEVENT
BEGIN:VEVENT
DTSTART;TZID=America/Edmonton:20190925T130000
DTEND;TZID=America/Edmonton:20190925T140000
DTSTAMP:20260425T201423
CREATED:20190818T020443Z
LAST-MODIFIED:20190818T020443Z
UID:1351-1569416400-1569420000@padmehum.ca
SUMMARY:Gentle Hatha
DESCRIPTION:
URL:https://padmehum.ca/event/gentle-hatha-73/
LOCATION:Keephills Community Hall\, RR #1\, Duffield\, AB\, T0E 0N0\, Canada
CATEGORIES:Gentle Hatha
END:VEVENT
BEGIN:VEVENT
DTSTART;TZID=America/Edmonton:20190924T200000
DTEND;TZID=America/Edmonton:20190924T210000
DTSTAMP:20260425T201423
CREATED:20190818T020203Z
LAST-MODIFIED:20190818T020203Z
UID:1349-1569355200-1569358800@padmehum.ca
SUMMARY:Meditation
DESCRIPTION:
URL:https://padmehum.ca/event/meditation-24/
CATEGORIES:Meditation
END:VEVENT
BEGIN:VEVENT
DTSTART;TZID=America/Edmonton:20190924T183000
DTEND;TZID=America/Edmonton:20190924T194500
DTSTAMP:20260425T201423
CREATED:20190818T020055Z
LAST-MODIFIED:20190818T020055Z
UID:1347-1569349800-1569354300@padmehum.ca
SUMMARY:Yin
DESCRIPTION:
URL:https://padmehum.ca/event/yin-83/
CATEGORIES:Yin
END:VEVENT
BEGIN:VEVENT
DTSTART;TZID=America/Edmonton:20190923T173000
DTEND;TZID=America/Edmonton:20190923T183000
DTSTAMP:20260425T201423
CREATED:20190818T015931Z
LAST-MODIFIED:20190818T015931Z
UID:1345-1569259800-1569263400@padmehum.ca
SUMMARY:Gentle Hatha
DESCRIPTION:
URL:https://padmehum.ca/event/gentle-hatha-72/
CATEGORIES:Gentle Hatha
END:VEVENT
BEGIN:VEVENT
DTSTART;TZID=America/Edmonton:20190922T080000
DTEND;TZID=America/Edmonton:20190922T170000
DTSTAMP:20260425T201423
CREATED:20190923T001538Z
LAST-MODIFIED:20190923T001538Z
UID:1451-1569139200-1569171600@padmehum.ca
SUMMARY:Gentle Hatha
DESCRIPTION:
URL:https://padmehum.ca/event/gentle-hatha-92/
CATEGORIES:Hatha Flow
END:VEVENT
BEGIN:VEVENT
DTSTART;TZID=America/Edmonton:20190921T100000
DTEND;TZID=America/Edmonton:20190921T111500
DTSTAMP:20260425T201423
CREATED:20190818T015835Z
LAST-MODIFIED:20190818T015835Z
UID:1343-1569060000-1569064500@padmehum.ca
SUMMARY:Gentle Hatha Flow
DESCRIPTION:
URL:https://padmehum.ca/event/gentle-hatha-flow-44/
END:VEVENT
BEGIN:VEVENT
DTSTART;TZID=America/Edmonton:20190919T183000
DTEND;TZID=America/Edmonton:20190919T194500
DTSTAMP:20260425T201423
CREATED:20190818T015721Z
LAST-MODIFIED:20190828T164935Z
UID:1341-1568917800-1568922300@padmehum.ca
SUMMARY:*CLASS FULL*Yin with Guided Meditation
DESCRIPTION:**Sorry\, class is full. Thank you for your interest.
URL:https://padmehum.ca/event/yin-with-guided-meditation-24/
LOCATION:Vita Sana Naturopathic Wellness Clinic\, Unit 110 - 5 Spruce Village Way\, Spruce Grove\, Alberta\, T7X 0J6\, Canada
CATEGORIES:Yin with Guided Meditation
END:VEVENT
BEGIN:VEVENT
DTSTART;TZID=America/Edmonton:20190919T160000
DTEND;TZID=America/Edmonton:20190919T170000
DTSTAMP:20260425T201423
CREATED:20190818T015618Z
LAST-MODIFIED:20190818T015618Z
UID:1339-1568908800-1568912400@padmehum.ca
SUMMARY:Gentle Hatha
DESCRIPTION:
URL:https://padmehum.ca/event/gentle-hatha-71/
LOCATION:Private Class
CATEGORIES:Gentle Hatha
END:VEVENT
BEGIN:VEVENT
DTSTART;TZID=America/Edmonton:20190919T120000
DTEND;TZID=America/Edmonton:20190919T130000
DTSTAMP:20260425T201423
CREATED:20190818T015535Z
LAST-MODIFIED:20190818T015535Z
UID:1337-1568894400-1568898000@padmehum.ca
SUMMARY:Gentle Hatha
DESCRIPTION:
URL:https://padmehum.ca/event/gentle-hatha-70/
LOCATION:Private Class
CATEGORIES:Gentle Hatha
END:VEVENT
BEGIN:VEVENT
DTSTART;TZID=America/Edmonton:20190918T170000
DTEND;TZID=America/Edmonton:20190918T180000
DTSTAMP:20260425T201423
CREATED:20190818T015435Z
LAST-MODIFIED:20190818T015435Z
UID:1335-1568826000-1568829600@padmehum.ca
SUMMARY:Gentle Hatha
DESCRIPTION:
URL:https://padmehum.ca/event/gentle-hatha-69/
LOCATION:Private Class
CATEGORIES:Gentle Hatha
END:VEVENT
BEGIN:VEVENT
DTSTART;TZID=America/Edmonton:20190918T130000
DTEND;TZID=America/Edmonton:20190918T140000
DTSTAMP:20260425T201423
CREATED:20190818T015347Z
LAST-MODIFIED:20190818T015347Z
UID:1333-1568811600-1568815200@padmehum.ca
SUMMARY:Gentle Hatha
DESCRIPTION:
URL:https://padmehum.ca/event/gentle-hatha-68/
END:VEVENT
BEGIN:VEVENT
DTSTART;TZID=America/Edmonton:20190917T183000
DTEND;TZID=America/Edmonton:20190917T194500
DTSTAMP:20260425T201423
CREATED:20190910T212618Z
LAST-MODIFIED:20190910T212618Z
UID:1403-1568745000-1568749500@padmehum.ca
SUMMARY:Yin
DESCRIPTION:
URL:https://padmehum.ca/event/yin-85/
CATEGORIES:Yin
END:VEVENT
BEGIN:VEVENT
DTSTART;TZID=America/Edmonton:20190916T173000
DTEND;TZID=America/Edmonton:20190916T183000
DTSTAMP:20260425T201424
CREATED:20190910T212514Z
LAST-MODIFIED:20190910T212514Z
UID:1401-1568655000-1568658600@padmehum.ca
SUMMARY:Gentle Hatha
DESCRIPTION:
URL:https://padmehum.ca/event/gentle-hatha-78/
CATEGORIES:Gentle Hatha
END:VEVENT
END:VCALENDAR