BEGIN:VCALENDAR
VERSION:2.0
PRODID:-//Padme Hum Yoga - ECPv6.15.20//NONSGML v1.0//EN
CALSCALE:GREGORIAN
METHOD:PUBLISH
X-WR-CALNAME:Padme Hum Yoga
X-ORIGINAL-URL:https://padmehum.ca
X-WR-CALDESC:Events for Padme Hum Yoga
REFRESH-INTERVAL;VALUE=DURATION:PT1H
X-Robots-Tag:noindex
X-PUBLISHED-TTL:PT1H
BEGIN:VTIMEZONE
TZID:America/Edmonton
BEGIN:DAYLIGHT
TZOFFSETFROM:-0700
TZOFFSETTO:-0600
TZNAME:MDT
DTSTART:20230312T090000
END:DAYLIGHT
BEGIN:STANDARD
TZOFFSETFROM:-0600
TZOFFSETTO:-0700
TZNAME:MST
DTSTART:20231105T080000
END:STANDARD
BEGIN:DAYLIGHT
TZOFFSETFROM:-0700
TZOFFSETTO:-0600
TZNAME:MDT
DTSTART:20240310T090000
END:DAYLIGHT
BEGIN:STANDARD
TZOFFSETFROM:-0600
TZOFFSETTO:-0700
TZNAME:MST
DTSTART:20241103T080000
END:STANDARD
BEGIN:DAYLIGHT
TZOFFSETFROM:-0700
TZOFFSETTO:-0600
TZNAME:MDT
DTSTART:20250309T090000
END:DAYLIGHT
BEGIN:STANDARD
TZOFFSETFROM:-0600
TZOFFSETTO:-0700
TZNAME:MST
DTSTART:20251102T080000
END:STANDARD
END:VTIMEZONE
BEGIN:VEVENT
DTSTART;TZID=America/Edmonton:20240428T180000
DTEND;TZID=America/Edmonton:20240428T191500
DTSTAMP:20260423T131258
CREATED:20240328T135424Z
LAST-MODIFIED:20240427T001138Z
UID:3115-1714327200-1714331700@padmehum.ca
SUMMARY:*Class Full* Yin with Sound Therapy
DESCRIPTION:
URL:https://padmehum.ca/event/yin-with-sound-therapy/
LOCATION:Vita Sana Naturopathic Wellness Clinic\, Unit 110 - 5 Spruce Village Way\, Spruce Grove\, Alberta\, T7X 0J6\, Canada
CATEGORIES:Yin with Guided Meditation
END:VEVENT
END:VCALENDAR